{"text_format":"1","workbook":"xlsx","n_sheets":20,"sheets":["見積書","静岡県統一部数表","配布部数一覧（表題入力）","管外入力","浜松市①","浜松市②","湖西市","磐田市","袋井市･森町","掛川市","菊川市･御前崎市","牧之原市･榛原郡･島田市","藤枝市･焼津市","静岡市①","静岡市②","富士宮･富士市","沼津市","三島市･御殿場市･裾野市･駿東郡","伊豆市･伊豆の国市･下田市(賀茂郡)","伊東市･熱海市"],"not_rendered":{"charts":0,"images":4,"macros":1,"external_links":0,"defined_names":186,"comments":0,"pivot_tables":0},"unopened":[],"bounds":{"document_bytes":16777216,"sheet_cells":100000,"rows_first":2000,"rows_last":500,"rows_between":2000,"halvings":0,"cell_chars":16384,"cell_head_chars":4096},"cells_cut":0,"cells_raw":0,"read":"whole","date_system":"1900"}

{"sheet":"見積書","index":0,"n_rows":40,"n_cols":6,"rows_kept":40,"cut":false,"hidden":true,"merged":[[34,1,34,6],[35,1,35,6],[27,1,27,2],[27,5,27,6],[28,1,28,2],[28,5,28,6],[29,1,29,2],[29,5,29,6],[30,1,30,4],[30,5,30,6],[33,1,33,6],[24,1,24,2],[24,5,24,6],[25,1,25,2],[25,5,25,6],[26,1,26,2],[26,5,26,6],[21,1,21,2],[21,5,21,6],[22,1,22,2],[22,5,22,6],[23,1,23,2],[23,5,23,6],[20,1,20,2],[20,5,20,6],[10,1,10,3],[12,2,12,3],[13,2,13,3],[13,5,13,6],[14,2,14,3],[14,5,14,6],[16,2,16,3],[16,5,16,6],[17,2,17,6],[19,1,19,2],[19,5,19,6],[0,3,1,4],[0,5,0,6],[1,5,1,6],[8,1,9,1],[8,2,9,3],[9,5,9,6]]}
[null,null,null,"御 見 積 書"]
[]
[]
[]
[]
[]
[null,"何卒宜しくお願い致します。"]
[]
[null,"合計金額",{"$f":"F31","v":0}]
[]
[null,"※上記の金額に消費税は含まれていません"]
[]
[null,"折込日"]
[null,"広告主",null,null,"サイズ"]
[null,"タイトル",null,null,null,{"$f":"SUM(D21:D26)","v":0}]
[]
[null,"納品場所","株式会社浜松中日サービスセンター"]
[null,"納品住所","浜松市中区西浅田2丁目9-37"]
[]
[null,"配布地区",null,"配布部数",null,"金額"]
[null,null,null,null,null,{"$f":"D21*E21","v":0}]
[null,null,null,null,null,0]
[null,null,null,null,null,0]
[null,null,null,null,null,0]
[null,null,null,null,null,0]
[null,null,null,null,null,0]
[null,null,null,null,null,0]
[null,null,null,null,null,{"$f":"D28*E28","v":0}]
[null,null,null,null,null,0]
[null,null,null,null,null,0]
[null,"計",null,null,null,{"$f":"SUM(F20:G30)","v":0}]
[]
[null,"【注意事項】"]
[null,"（1）配布の御依頼は必ず書面にてFAX、又はメールにてお願いいたします。"]
[null,"（2）新聞販売店の締切時間以降の中止、変更については別途費用が発生しますので予めご了承下さい。"]
[null,"（3）地震・洪水・大雪など大規模自然災害が発生し、新聞の配達が困難な場合は折込が実施出来ない場合がございます。"]
[]
[null,"【折込料金お振込口座】"]
[null,"静岡銀行名塚支店　（普）0062238",null,"三菱UFJ銀行　浜松支店（普）0540515"]
[null,"※お振込の際の手数料はお客様のご負担でお願い申し上げます。"]

{"sheet":"静岡県統一部数表","index":1,"n_rows":15,"n_cols":3,"rows_kept":15,"cut":false,"hidden":false,"merged":[[12,6,12,7],[14,6,14,7],[9,6,9,7],[9,2,9,5],[8,1,8,5],[12,2,12,5],[11,1,11,5],[14,2,14,5],[0,0,0,14],[6,6,6,7],[1,1,1,14],[6,2,6,5],[5,1,5,5],[3,1,3,5]]}
["静岡県折込広告協議会　2024年5月調査"]
[null,"静岡県統一部数表　　2024年下期版"]
[]
[null,"朝刊折込部数"]
[]
[null,"【静岡県西部地区】"]
[null,"部数",{"$f":"'配布部数一覧（表題入力）'!C17","v":285850}]
[]
[null,"【静岡県中部地区】"]
[null,"部数",{"$f":"'配布部数一覧（表題入力）'!C27","v":254450}]
[]
[null,"【静岡県東部地区/伊豆地区】"]
[null,"部数",{"$f":"'配布部数一覧（表題入力）'!J21","v":251800}]
[]
[null,"朝刊折込　　　　　合計部数",{"$f":"C7+C10+C13","v":792100}]

{"sheet":"配布部数一覧（表題入力）","index":2,"n_rows":29,"n_cols":11,"rows_kept":29,"cut":false,"hidden":false,"merged":[[26,6,26,7],[28,6,29,8],[28,9,29,9],[28,10,29,11],[24,0,24,1],[25,0,25,1],[17,10,17,11],[18,10,18,11],[19,10,19,11],[23,10,23,11],[26,0,26,1],[24,10,24,11],[26,3,26,4],[25,3,25,4],[24,3,24,4],[23,3,23,4],[23,0,23,1],[25,10,25,11],[26,10,26,11],[23,6,23,7],[24,6,24,7],[25,6,25,7],[22,0,22,1],[20,6,20,8],[22,3,22,4],[21,3,21,4],[20,3,20,4],[22,6,22,11],[20,0,20,1],[20,10,20,11],[21,0,21,1],[21,10,21,11],[15,10,15,11],[14,6,14,8],[13,6,13,8],[16,10,16,11],[16,0,16,1],[16,6,16,8],[12,10,12,11],[13,10,13,11],[9,3,9,4],[11,0,11,1],[10,3,10,4],[10,6,10,8],[11,6,11,8],[9,6,9,8],[12,6,12,8],[17,6,17,8],[19,0,19,4],[18,6,18,8],[19,6,19,8],[15,0,15,1],[16,3,16,4],[15,6,15,8],[4,9,4,11],[11,12,11,13],[9,10,9,11],[10,10,10,11],[11,10,11,11],[9,12,9,13],[8,10,8,11],[0,10,0,11],[2,12,2,13],[1,8,2,8],[0,0,0,1],[1,1,1,2],[2,3,3,3],[3,1,3,2],[1,4,1,7],[2,4,3,6],[2,7,3,7],[3,9,3,11],[1,9,2,11],[2,1,2,2],[7,0,7,4],[8,0,8,1],[8,6,8,8],[15,3,15,4],[14,3,14,4],[8,3,8,4],[10,0,10,1],[13,0,13,1],[14,0,14,1],[12,0,12,1],[13,3,13,4],[12,3,12,4],[11,3,11,4],[7,6,7,11],[14,10,14,11],[9,0,9,1]]}
[null,null,null,null,null,null,null,null,null,"明細作成日",{"$f":"NOW()","v":"2024-07-18T16:19:52.260"}]
["広告主名","",null,"サイズ",null,null,null,null,"折込日"]
["タイトル",null,null,"総配布数",{"$f":"K29","v":0},null,null," 枚"]
["全体摘要",null,null,null,null,null,null,null,"納期"]
[]
["配布部数一覧表（全域）"]
[]
["静岡県　西部地区",null,null,null,null,null,"静岡県　東部地区/伊豆地区"]
["地区名",null,"取扱部数","折込部数",null,null,"地区名",null,null,"取扱部数","折込部数"]
["浜松市①（中日新聞）",null,{"$f":"浜松市①!D6","v":105900},{"$f":"浜松市①!G3","v":0},null,null,"富士宮市・富士市",null,null,{"$f":"富士宮･富士市!D6","v":69650},{"$f":"富士宮･富士市!G3","v":0}]
["浜松市②（合売店）",null,{"$f":"浜松市②!D6","v":73650},{"$f":"浜松市②!G3","v":0},null,null,"沼津市",null,null,{"$f":"沼津市!D6","v":49600},{"$f":"沼津市!G3","v":0}]
["湖西市",null,{"$f":"湖西市!D6","v":13200},{"$f":"湖西市!G3","v":0},null,null,"三島市",null,null,{"$f":"三島市･御殿場市･裾野市･駿東郡!D6","v":38200},{"$f":"三島市･御殿場市･裾野市･駿東郡!E9","v":0}]
["磐田市",null,{"$f":"磐田市!D6","v":33100},{"$f":"磐田市!G3","v":0},null,null,"御殿場市",null,null,{"$f":"三島市･御殿場市･裾野市･駿東郡!K10","v":13700},{"$f":"三島市･御殿場市･裾野市･駿東郡!L10","v":0}]
["袋井市・周智郡森町",null,{"$f":"袋井市･森町!D6+袋井市･森町!K6","v":20750},{"$f":"袋井市･森町!G3","v":0},null,null,"裾野市",null,null,{"$f":"三島市･御殿場市･裾野市･駿東郡!K24","v":8500},{"$f":"三島市･御殿場市･裾野市･駿東郡!L24","v":0}]
["掛川市",null,{"$f":"掛川市!D6","v":25100},{"$f":"掛川市!G3","v":0},null,null,"駿東郡",null,null,{"$f":"三島市･御殿場市･裾野市･駿東郡!K31","v":2100},{"$f":"三島市･御殿場市･裾野市･駿東郡!L31","v":0}]
["菊川市・御前崎市",null,{"$f":"菊川市･御前崎市!D6+菊川市･御前崎市!K6","v":14150},{"$f":"菊川市･御前崎市!G3","v":0},null,null,"伊豆市・伊豆の国市",null,null,{"$f":"'伊豆市･伊豆の国市･下田市(賀茂郡)'!D6","v":16550},{"$f":"'伊豆市･伊豆の国市･下田市(賀茂郡)'!E9","v":0}]
["西部地区合計",null,{"$f":"SUM(C10:C16)","v":285850},{"$f":"SUM(D10:D16)","v":0},null,null,"下田市（賀茂郡）",null,null,{"$f":"'伊豆市･伊豆の国市･下田市(賀茂郡)'!K6","v":13650},{"$f":"'伊豆市･伊豆の国市･下田市(賀茂郡)'!L9","v":0}]
[null,null,null,null,null,null,"賀茂郡（西海岸・東海岸）",null,null,{"$f":"'伊豆市･伊豆の国市･下田市(賀茂郡)'!K23","v":10550},{"$f":"'伊豆市･伊豆の国市･下田市(賀茂郡)'!L26","v":0}]
[null,null,null,null,null,null,"伊東市",null,null,{"$f":"伊東市･熱海市!D6","v":22050},{"$f":"伊東市･熱海市!E9","v":0}]
["静岡県　中部地区",null,null,null,null,null,"熱海市",null,null,{"$f":"伊東市･熱海市!K6","v":7250},{"$f":"伊東市･熱海市!L9","v":0}]
["地区名",null,"取扱部数","折込部数",null,null,"東部地区合計",null,null,{"$f":"SUM(J10:J20)","v":251800},{"$f":"SUM(K10:L20)","v":0}]
["牧之原市・榛原郡",null,{"$f":"牧之原市･榛原郡･島田市!D6+牧之原市･榛原郡･島田市!D35","v":20350},{"$f":"牧之原市･榛原郡･島田市!E9+牧之原市･榛原郡･島田市!E38","v":0}]
["島田市",null,{"$f":"牧之原市･榛原郡･島田市!K6","v":18700},{"$f":"牧之原市･榛原郡･島田市!L9","v":0},null,null,"管　外"]
["藤枝市・焼津市",null,{"$f":"藤枝市･焼津市!D6+藤枝市･焼津市!K6","v":60700},{"$f":"藤枝市･焼津市!E9+藤枝市･焼津市!L9","v":0},null,null,"配布地区",null,"折込部数","納品先","納品期日"]
["静岡市①（葵区・駿河区）",null,{"$f":"静岡市①!D6","v":102400},{"$f":"静岡市①!G3","v":0},null,null,{"$f":"管外入力!A10","v":0},null,{"$f":"管外入力!D10","v":0},{"$f":"管外入力!G10","v":0},{"$f":"管外入力!H10","v":0}]
["静岡市②（清水区）",null,{"$f":"静岡市②!D6","v":52300},{"$f":"静岡市②!G3","v":0},null,null,{"$f":"管外入力!A11","v":0},null,{"$f":"管外入力!D11","v":0},{"$f":"管外入力!G11","v":0},{"$f":"管外入力!H11","v":0}]
["中部地区合計",null,{"$f":"SUM(C22:C26)","v":254450},{"$f":"SUM(D22:D26)","v":0},null,null,{"$f":"管外入力!A12","v":0},null,{"$f":"管外入力!D12","v":0},{"$f":"管外入力!G12","v":0},{"$f":"管外入力!H12","v":0}]
[]
[null,null,null,null,null,null,"総配布数",null,null,{"$f":"C17+C27+J21","v":792100},{"$f":"D17+D27+K21+I25+I26+I27","v":0}]

{"sheet":"管外入力","index":3,"n_rows":9,"n_cols":13,"rows_kept":9,"cut":false,"hidden":false,"merged":[[0,0,0,3],[1,1,1,4],[1,6,1,9],[1,10,2,10],[1,11,2,12],[2,2,2,4],[2,6,2,7],[7,12,8,12],[3,2,3,4],[3,6,3,7],[3,11,3,12],[5,0,6,2],[5,3,6,4],[5,7,6,9],[5,10,6,11],[7,0,8,2],[7,4,8,5],[7,6,8,6],[7,7,8,7],[7,9,8,10],[9,0,9,2],[9,4,9,5],[10,0,10,2],[10,4,10,5],[11,0,11,2],[11,4,11,5],[12,0,12,2],[12,4,12,5],[13,0,13,2],[13,4,13,5],[14,0,14,2],[14,4,14,5],[22,0,22,2],[23,0,23,2],[24,0,24,2],[18,0,18,2],[18,4,18,5],[19,0,19,2],[19,4,19,5],[20,0,20,2],[21,0,21,2],[15,0,15,2],[15,4,15,5],[16,0,16,2],[16,4,16,5],[17,0,17,2],[17,4,17,5]]}
[{"$f":"'配布部数一覧（表題入力）'!$A$1","v":0}]
["広告主名",{"$f":"'配布部数一覧（表題入力）'!B2","v":""},null,null,null,"サイズ",{"$f":"'配布部数一覧（表題入力）'!E2","v":0},null,null,null,"折込日",{"$f":"'配布部数一覧（表題入力）'!$J$2","v":"00:00:00"}]
["タイトル",{"$f":"'配布部数一覧（表題入力）'!B3","v":0},{"$f":"'配布部数一覧（表題入力）'!C3","v":0},null,null,"頁　数",{"$f":"D9","v":0},null,null,"　枚"]
["全体摘要",{"$f":"'配布部数一覧（表題入力）'!B4","v":0},{"$f":"'配布部数一覧（表題入力）'!C4","v":0},null,null,"総　数",{"$f":"'配布部数一覧（表題入力）'!$E$3","v":0},null,null,"　枚","納期",{"$f":"'配布部数一覧（表題入力）'!$J$4","v":"00:00:00"}]
[]
["管外【県外委託】"]
[]
["配布地区",null,null,"折込枚数","委託先",null,"納品・引取場所","発送形態",null,"納　期",null,"見積額","摘　　要"]
[null,null,null,{"$f":"SUM(D10:D20)","v":0},null,null,null,null,null,null,null,"（税別）"]

{"sheet":"浜松市①","index":4,"n_rows":46,"n_cols":13,"rows_kept":46,"cut":false,"hidden":false,"merged":[[30,0,34,0],[35,0,37,0],[9,0,29,0],[23,5,23,6],[24,5,24,6],[25,5,25,6],[26,5,26,6],[27,5,27,6],[28,5,28,6],[29,5,29,6],[22,5,22,6],[18,5,18,6],[36,5,36,6],[37,5,37,6],[2,2,2,4],[3,2,3,4],[7,12,8,12],[3,11,3,12],[5,0,6,2],[5,3,6,4],[5,7,6,9],[5,10,6,11],[7,0,8,0],[7,2,8,2],[1,10,2,10],[1,11,2,12],[2,6,2,7],[3,6,3,7],[7,7,8,7],[7,9,8,9],[0,0,0,3],[1,1,1,4],[1,6,1,9],[20,5,20,6],[21,5,21,6],[9,5,9,6],[10,5,10,6],[11,5,11,6],[12,5,12,6],[13,5,13,6],[14,5,14,6],[15,5,15,6],[16,5,16,6],[17,5,17,6],[19,5,19,6],[7,5,8,6],[44,5,44,6],[45,5,45,6],[30,5,30,6],[31,5,31,6],[32,5,32,6],[33,5,33,6],[34,5,34,6],[38,0,40,0],[42,0,45,0],[9,7,12,7],[22,7,24,7],[25,7,32,7],[13,7,17,7],[18,7,21,7],[33,7,37,7],[38,7,44,7],[38,5,38,6],[39,5,39,6],[40,5,40,6],[41,5,41,6],[42,5,42,6],[43,5,43,6],[35,5,35,6]]}
[{"$f":"'配布部数一覧（表題入力）'!A1:B1","v":0}]
["広告主名",{"$f":"'配布部数一覧（表題入力）'!B2:C2","v":""},null,null,null,"サイズ",{"$f":"'配布部数一覧（表題入力）'!E2","v":0},null,null,null,"折込日",{"$f":"'配布部数一覧（表題入力）'!J2","v":"00:00:00"}]
["タイトル",null,{"$f":"'配布部数一覧（表題入力）'!B3","v":0},null,null,"頁　数",{"$f":"E9+L9","v":0},null,null,"　枚"]
["全体摘要",null,{"$f":"'配布部数一覧（表題入力）'!B4","v":0},null,null,"総　数",{"$f":"'配布部数一覧（表題入力）'!K29","v":0},null,null,"　枚","納期",{"$f":"'配布部数一覧（表題入力）'!J4","v":"00:00:00"}]
[]
["浜松市①　中日新聞：",null,null,{"$f":"D9+K9","v":105900}]
[]
["扱紙",null,"販売店名　　　　　　　　　　　　　　（支店）","扱　数","折込枚数","摘要",null,"扱紙",null,"販売店名　　　　　　　　　　　　　　　　　（支店）","扱　数","折込枚数","摘要"]
[null,null,null,{"$f":"D10+D31+D36+D39+D42+D43","v":55050},{"$f":"E10+E31+E36+E39+E42+E43","v":0},null,null,null,null,null,{"$f":"K10+K14+K19+K23+K26+K34+K39+K46","v":50850},{"$f":"L10+L14+L19+L23+L26+L34+L39+L46","v":0}]
["中日",101000,"浜松中日",{"$f":"SUM(D11:D30)","v":36300},{"$f":"SUM(E11:E30)","v":0},null,null,"中日",211000,"細江･金原",{"$f":"SUM(K11:K13)","v":1900},{"$f":"SUM(L11:L13)","v":0}]
[null,101001,"中央",2300,null,null,null,null,211001,"細江気賀",1550]
[null,101002,"六間通",1450,null,null,null,null,211002,"引佐奥山",300]
[null,101003,"曳馬",2200,null,null,null,null,211003,"和光町",50]
[null,101004,"中田",1350,null,null,null,"全",213000,"新都田･井嶋",{"$f":"SUM(K15:K18)","v":4900},{"$f":"SUM(L15:L18)","v":0}]
[null,101005,"駅南",1600,null,null,null,null,213001,"細江中川・三和",1100]
[null,101011,"白脇",2050,null,null,null,null,213002,"引   佐",1900]
[null,101012,"南陽",3700,null,null,null,null,213003,"都田・新都田",1740]
[null,101014,"西部",0,null,null,null,null,213004,"浜北区",160]
[null,101015,"伊場",1400,null,null,null,"全",215000,"天竜川･小寺",{"$f":"SUM(K20:K22)","v":9900},{"$f":"SUM(L20:L22)","v":0}]
[null,101021,"浅田",1750,null,null,null,null,215001,"バイパス以西",7100]
[null,101022,"山手",1500,null,null,null,null,215002,"バイパス以東",1970]
[null,101023,"さなる",1550,null,null,null,null,215003,"ＪＲ以南",830]
[null,101024,"大平台",1650,null,null,null,"中読毎静",216000,"笠井･村木",{"$f":"SUM(K24:K25)","v":3900},{"$f":"SUM(L24:L25)","v":0}]
[null,101025,"北部",4350,null,null,null,null,216001,"笠井地区",3000]
[null,101031,"高丘",1800,null,null,null,null,216002,"浜北区",900]
[null,101032,"葵",0,null,null,null,"中読毎静",218000,"小松･尾上",{"$f":"SUM(K27:K33)","v":12100},{"$f":"SUM(L27:L33)","v":0}]
[null,101033,"三方原",1750,null,null,null,null,218001,"有玉店",1500]
[null,101034,"百里",1600,null,null,null,null,218002,"鷺ノ宮",1500]
[null,101035,"湖東",2850,null,null,null,null,218003,"積志店",2600]
[null,101042,"大人見",1450,null,null,null,null,218004,"西ヶ崎店",2300]
["全",201000,"高塚･鈴木",{"$f":"SUM(D32:D35)","v":8900},{"$f":"SUM(E32:E35)","v":0},null,null,null,218005,"小松店",1300]
[null,201001,"入野・佐鳴台",2650,null,null,null,null,218006,"内野店",1500]
[null,201002,"可   美",2700,null,null,null,null,218007,"宮口店",1400]
[null,201003,"新   津",2640,null,null,null,"中読毎静",220000,"浜北･富永",{"$f":"SUM(K35:K38)","v":6300},{"$f":"SUM(L35:L38)","v":0}]
[null,201004,"篠   原",910,null,null,null,null,220001,"貴布祢南・沼",1740]
["中読毎",202000,"雄踏･小栗",{"$f":"SUM(D37:D38)","v":3000},{"$f":"SUM(E37:E38)","v":0},null,null,null,220002,"高畑・美薗",1710]
[null,202001,"雄   踏",2200,null,null,null,null,220003,"小林・本沢合・東原",1050]
[null,202002,"志都呂・西鴨江",800,null,null,null,null,220004,"中瀬・豊保",1800]
["中読毎",204000,"湖南･佐々木",{"$f":"SUM(D40:D41)","v":3450},{"$f":"SUM(E40:E41)","v":0},null,null,"全",221000,"二俣･大角",{"$f":"SUM(K40:K45)","v":11150},{"$f":"SUM(L40:L45)","v":0}]
[null,204001,"舞   阪",2100,null,null,null,null,221001,"浜   北",2100]
[null,204002,"馬郡・坪井・篠原",1350,null,null,null,null,221002,"天   竜",4750]
["全",209000,"三ケ日･丸倉",2200,null,null,null,null,221004,"佐久間",150]
["全",210000,"都筑･神保",{"$f":"SUM(D44:D46)","v":1200},{"$f":"SUM(E44:E46)","v":0},null,null,null,221003,"犬居松下店･豊   岡",1750]
[null,210001,"都筑・佐久米",700,null,null,null,null,221005,"犬居松下店：春野･水窪",2150]
[null,210002,"駒場・大谷",250,null,null,null,null,221006,"犬居松下店・龍   山",250]
[null,210003,"大   崎",250,null,null,null,"全",222000,"浦川・松下",700]

{"sheet":"浜松市②","index":5,"n_rows":45,"n_cols":13,"rows_kept":45,"cut":false,"hidden":false,"merged":[[39,5,39,6],[35,0,38,0],[29,0,34,0],[20,0,28,0],[40,0,46,6],[23,5,23,6],[33,5,33,6],[32,5,32,6],[31,5,31,6],[30,5,30,6],[29,5,29,6],[34,5,34,6],[35,5,35,6],[32,7,44,7],[45,7,46,12],[21,5,21,6],[22,5,22,6],[15,5,15,6],[16,5,16,6],[17,5,17,6],[18,5,18,6],[19,5,19,6],[24,5,24,6],[9,7,31,7],[10,5,10,6],[20,5,20,6],[36,5,36,6],[37,5,37,6],[38,5,38,6],[7,12,8,12],[3,11,3,12],[5,0,6,2],[5,3,6,4],[5,7,6,9],[5,10,6,11],[7,7,8,7],[7,0,8,0],[7,2,8,2],[7,5,8,6],[1,10,2,10],[1,11,2,12],[2,6,2,7],[3,6,3,7],[2,2,2,4],[3,2,3,4],[0,0,0,3],[1,1,1,4],[1,6,1,9],[7,9,8,9],[9,5,9,6],[9,0,19,0],[11,5,11,6],[12,5,12,6],[14,5,14,6],[13,5,13,6]]}
[{"$f":"'配布部数一覧（表題入力）'!A1:B1","v":0}]
["広告主名",{"$f":"'配布部数一覧（表題入力）'!B2:C2","v":""},null,null,null,"サイズ",{"$f":"'配布部数一覧（表題入力）'!E2","v":0},null,null,null,"折込日",{"$f":"'配布部数一覧（表題入力）'!J2","v":"00:00:00"}]
["タイトル",null,{"$f":"'配布部数一覧（表題入力）'!B3","v":0},null,null,"頁　数",{"$f":"E9+L9","v":0},null,null,"　枚"]
["全体摘要",null,{"$f":"'配布部数一覧（表題入力）'!B4","v":0},null,null,"総　数",{"$f":"'配布部数一覧（表題入力）'!K29","v":0},null,null,"　枚","納期",{"$f":"'配布部数一覧（表題入力）'!J4","v":"00:00:00"}]
[]
["浜松市②　合売店：",null,null,{"$f":"D9+K9","v":73650}]
[]
["扱紙",null,"販売店名　　　　　　　　　　　　　　（支店）","扱　数","折込枚数","摘要",null,"扱紙",null,"販売店名　　　　　　　　　　　　　　　　　（支店）","扱　数","折込枚数","摘要"]
[null,null,null,{"$f":"D10+D21+D30+D36+D40","v":23000},{"$f":"E10+E21+E30+E36+E40","v":0},null,null,null,null,null,{"$f":"K10+K11+K17+K22+K28+K33+K37","v":50650},{"$f":"L10+L11+L17+L22+L28+L33+L37","v":0}]
["朝静",104000,"浜松・よしえ",{"$f":"SUM(D11:D20)","v":9300},{"$f":"SUM(E11:E20)","v":0},null,null,"読静",108000,"浜松読売中央",3400]
[null,104001,"半田",0,null,null,null,null,109000,"浜松読売第一",{"$f":"SUM(K12:K16)","v":7800},{"$f":"SUM(L12:L16)","v":0}]
[null,104002,"萩丘",410,null,null,null,null,109001,"元浜",1500]
[null,104003,"三方原",240,null,null,null,null,109002,"宮竹",1400]
[null,104004,"海老塚",650,null,null,null,null,109003,"曳馬",1600]
[null,104005,"白羽",1170,null,null,null,null,109004,"上島",1600]
[null,104006,"安松",1290,null,null,null,null,109005,"早出",1700]
[null,104007,"浜団地",800,null,null,null,null,110000,"浜松読売北部",{"$f":"SUM(K18:K21)","v":4450},{"$f":"SUM(L18:L21)","v":0}]
[null,104008,"三島",900,null,null,null,null,110001,"萩丘",1150]
[null,104009,"神立",2230,null,null,null,null,110002,"高丘",950]
[null,104010,"上島",1610,null,null,null,null,110003,"初生",1350]
["朝静",219000,"浜北･吉江",{"$f":"SUM(D22:D29)","v":5200},{"$f":"SUM(E22:E29)","v":0},null,null,null,110004,"三方原",1000]
[null,219001,"笠   井",360,null,null,null,null,111000,"浜松読売西部",{"$f":"SUM(K23:K27)","v":9700},{"$f":"SUM(L23:L27)","v":0}]
[null,219002,"有   玉",1200,null,null,null,null,111001,"西伊場",2700]
[null,219008,"半 　田",600,null,null,null,null,111002,"鹿谷",2050]
[null,219003,"浜北南西",1100,null,null,null,null,111003,"和合",1950]
[null,219004,"浜北南中",0,null,null,null,null,111004,"和合西",1350]
[null,219005,"浜北南東",750,null,null,null,null,111005,"西山",1650]
[null,219006,"浜北北西",930,null,null,null,null,112000,"浜松読売南部",{"$f":"SUM(K29:K32)","v":7900},{"$f":"SUM(L29:L32)","v":0}]
[null,219007,"浜北北東",260,null,null,null,null,112001,"瓜内",1800]
["朝静",203000,"舞阪･石塚",{"$f":"SUM(D31:D35)","v":4200},{"$f":"SUM(E31:E35)","v":0},null,null,null,112002,"向宿",2200]
[null,203001,"雄   踏",1200,null,null,null,null,112003,"安松",2900]
[null,203002,"志都呂・西鴨江",450,null,null,null,null,112004,"遠州浜",1000]
[null,203003,"大人見・大久保",800,null,null,null,"毎静",106000,"浜松毎日・赤間",{"$f":"SUM(K34:K36)","v":3300},{"$f":"SUM(L34:L36)","v":0}]
[null,203004,"舞   阪",650,null,null,null,null,106002,"寺島",1790]
[null,203005,"馬郡・坪井・篠原",1100,null,null,null,null,106003,"飯田",1040]
["読朝毎静",212000,"細江･久米",{"$f":"SUM(D37:D39)","v":2500},{"$f":"SUM(E37:E39)","v":0},null,null,null,106004,"浜団地",470]
[null,212001,"細江気賀",1860,null,null,null,null,107000,"浜松・柳原",{"$f":"SUM(K38:K45)","v":14100},{"$f":"SUM(L38:L45)","v":0}]
[null,212002,"引佐奥山",440,null,null,null,null,107001,"城北",2600]
[null,212003,"和光町",200,null,null,null,null,107002,"山下",0]
["読朝毎静",214000,"和地エルイー",1800,null,null,null,null,107004,"西塚",0]
[null,null,null,null,null,null,null,null,107011,"鴨江",3100]
[null,null,null,null,null,null,null,null,107013,"富塚･大平台",1900]
[null,null,null,null,null,null,null,null,107014,"萩丘",3600]
[null,null,null,null,null,null,null,null,107023,"初生"]
[null,null,null,null,null,null,null,null,107024,"初生･三方原",2900]

{"sheet":"湖西市","index":6,"n_rows":21,"n_cols":12,"rows_kept":21,"cut":false,"hidden":false,"merged":[[12,0,15,0],[16,5,16,6],[20,5,20,6],[9,5,9,6],[10,5,10,6],[11,5,11,6],[12,5,12,6],[13,5,13,6],[14,5,14,6],[17,5,17,6],[18,5,18,6],[0,0,0,3],[1,1,1,4],[1,6,1,9],[1,10,2,10],[1,11,2,12],[2,6,2,7],[2,2,2,4],[3,6,3,7],[3,2,3,4],[7,7,46,12],[3,11,3,12],[5,0,6,2],[5,3,6,4],[5,7,6,9],[5,10,6,11],[9,0,11,0],[21,0,46,6],[7,0,8,0],[7,2,8,2],[7,5,8,6],[19,5,19,6],[16,0,19,0],[15,5,15,6]]}
[{"$f":"'配布部数一覧（表題入力）'!A1:B1","v":0}]
["広告主名",{"$f":"'配布部数一覧（表題入力）'!B2:C2","v":""},null,null,null,"サイズ",{"$f":"'配布部数一覧（表題入力）'!E2","v":0},null,null,null,"折込日",{"$f":"'配布部数一覧（表題入力）'!J2","v":"00:00:00"}]
["タイトル",null,{"$f":"'配布部数一覧（表題入力）'!B3","v":0},null,null,"頁　数",{"$f":"E9+L9","v":0},null,null,"　枚"]
["全体摘要",null,{"$f":"'配布部数一覧（表題入力）'!B4","v":0},null,null,"総　数",{"$f":"'配布部数一覧（表題入力）'!K29","v":0},null,null,"　枚","納期",{"$f":"'配布部数一覧（表題入力）'!J4","v":"00:00:00"}]
[]
["浜名湖周辺：",null,null,{"$f":"D9","v":13200}]
[]
["扱紙",null,"販売店名　　　　　　　　　　　　　　（支店）","扱　数","折込枚数","摘要"]
[null,null,null,{"$f":"D10+D13+D17+D21","v":13200},{"$f":"E10+E13+E17+E21","v":0}]
["全",205000,"新居･鈴木",{"$f":"SUM(D11:D12)","v":5000},{"$f":"SUM(E11:E12)","v":0}]
[null,205001,"湖西市",4350]
[null,205002,"浜松市村櫛",650]
["中読毎",206000,"鷲津･兼子",{"$f":"SUM(D14:D16)","v":4100},{"$f":"SUM(E14:E16)","v":0}]
[null,206001,"鷲津・古見",2470]
[null,206002,"新所・太田",800]
[null,206003,"入出・知波田",830]
["朝静",207000,"鷲津･白石",{"$f":"SUM(D18:D20)","v":1500},{"$f":"SUM(E18:E20)","v":0}]
[null,207001,"鷲   津",700]
[null,207003,"新所・入出・知波田",400]
[null,207002,"新所原",400]
["中読毎",208000,"新所原･宮崎",2600]

{"sheet":"磐田市","index":7,"n_rows":36,"n_cols":13,"rows_kept":36,"cut":false,"hidden":false,"merged":[[30,7,33,7],[32,5,32,6],[33,5,33,6],[34,5,34,6],[34,7,36,7],[35,5,35,6],[26,7,29,7],[26,0,35,0],[16,5,16,6],[17,5,17,6],[18,5,18,6],[19,5,19,6],[20,5,20,6],[21,5,21,6],[22,5,22,6],[29,5,29,6],[30,5,30,6],[31,5,31,6],[26,5,26,6],[27,5,27,6],[28,5,28,6],[19,0,25,0],[9,0,18,0],[7,12,8,12],[5,3,6,4],[5,0,6,2],[23,5,23,6],[7,9,8,9],[24,5,24,6],[25,5,25,6],[22,7,25,7],[7,0,8,0],[7,2,8,2],[7,5,8,6],[7,7,8,7],[16,7,20,7],[9,7,15,7],[9,5,9,6],[15,5,15,6],[10,5,10,6],[11,5,11,6],[12,5,12,6],[13,5,13,6],[14,5,14,6],[3,6,3,7],[3,11,3,12],[2,2,2,4],[3,2,3,4],[4,11,4,12],[0,0,0,3],[1,1,1,4],[1,6,1,9],[1,10,2,10],[1,11,2,12],[2,6,2,7]]}
[{"$f":"'配布部数一覧（表題入力）'!A1:B1","v":0}]
["広告主名",{"$f":"'配布部数一覧（表題入力）'!B2:C2","v":""},null,null,null,"サイズ",{"$f":"'配布部数一覧（表題入力）'!E2","v":0},null,null,null,"折込日",{"$f":"'配布部数一覧（表題入力）'!J2","v":"00:00:00"}]
["タイトル",null,{"$f":"'配布部数一覧（表題入力）'!B3","v":0},null,null,"頁　数",{"$f":"E9+L9","v":0},null,null,"　枚"]
["全体摘要",null,{"$f":"'配布部数一覧（表題入力）'!B4","v":0},null,null,"総　数",{"$f":"'配布部数一覧（表題入力）'!K29","v":0},null,null,"　枚","納期",{"$f":"'配布部数一覧（表題入力）'!J4","v":"00:00:00"}]
[]
["磐田市：",null,null,{"$f":"D9+K9","v":33100}]
[]
["扱紙",null,"販売店名　　　　　　　　　　　　　　（支店）","扱　数","折込枚数","摘要",null,"扱紙",null,"販売店名　　　　　　　　　　　　　　　　　（支店）","扱　数","折込枚数","摘要"]
[null,null,null,{"$f":"D10+D20+D27","v":18700},{"$f":"E10+E20+E27","v":0},null,null,null,null,null,{"$f":"K10+K17+K22+K23+K27+K31","v":14400},{"$f":"L10+L17+L22+L23+L27+L31","v":0}]
["中静",301000,"磐田･鈴木",{"$f":"SUM(D11:D19)","v":5700},{"$f":"SUM(E11:E19)","v":0},null,null,"朝静",304000,"磐田･吉江",{"$f":"SUM(K11:K16)","v":4050},{"$f":"SUM(L11:L16)","v":0}]
[null,301001,"新貝･三ヶ野",330,null,null,null,null,304001,"見   付",850]
[null,301002,"大久保",660,null,null,null,null,304002,"城之崎･貝塚",420]
[null,301003,"向   笠",430,null,null,null,null,304003,"中   泉",600]
[null,301004,"今之浦･安久路",680,null,null,null,null,304004,"御殿･二之宮",230]
[null,301005,"見   付",1540,null,null,null,null,304005,"岡田･中野",1650]
[null,301006,"中   泉",940,null,null,null,null,304006,"東新町",300]
[null,301008,"豊   岡",270,null,null,null,"中日",305000,"磐田南部清水",{"$f":"SUM(K18:K21)","v":1200},{"$f":"SUM(L18:L21)","v":0}]
[null,301009,"豊田・岩田",820,null,null,null,null,305001,"新幹線以北",250]
[null,301010,"袋井市見取",30,null,null,null,null,305002,"新幹線以南",530]
["読静",302000,"磐田･博報堂",{"$f":"SUM(D21:D26)","v":7450},{"$f":"SUM(E21:E26)","v":0},null,null,null,305003,"豊   田",290]
[null,302001,"見   付",1200,null,null,null,null,305004,"福   田",130]
[null,302002,"今之浦･城之崎・貝塚",1040,null,null,null,"中日",306000,"豊田･竹内",1500]
[null,302003,"中   泉",1250,null,null,null,"中日",307000,"竜洋･立石",{"$f":"SUM(K24:K26)","v":2200},{"$f":"SUM(L24:L26)","v":0}]
[null,302004,"豊島･千手堂･鮫島",680,null,null,null,null,307001,"竜   洋",1570]
[null,302005,"豊   田",2550,null,null,null,null,307002,"前野･草崎･小島",370]
[null,302006,"福田南島･小島",730,null,null,null,null,307003,"赤池･本郷",260]
["毎静",303000,"磐田･新聞堂",{"$f":"SUM(D28:D36)","v":5550},{"$f":"SUM(E28:E36)","v":0},null,null,"読朝毎静",308000,"竜洋･風間",{"$f":"SUM(K28:K30)","v":3050},{"$f":"SUM(L28:L30)","v":0}]
[null,303001,"豊   田",590,null,null,null,null,308001,"竜   洋",2340]
[null,303002,"福   田",1110,null,null,null,null,308002,"前野･草崎･小島",540]
[null,303003,"匂坂･豊岡",260,null,null,null,null,308003,"赤池･本郷",170]
[null,303004,"大久保",600,null,null,null,"中静",309000,"福田･寺田",{"$f":"SUM(K32:K34)","v":2400},{"$f":"SUM(L32:L34)","v":0}]
[null,303005,"見   付",1210,null,null,null,null,309001,"駅南東部",700]
[null,303006,"安久路･明ヶ島",510,null,null,null,null,309002,"福   田",1500]
[null,303007,"中   泉",760,null,null,null,null,309003,"豊   浜",200]
[null,303008,"大原･鎌田",310]
[null,303009,"豊   浜",200]

{"sheet":"袋井市･森町","index":8,"n_rows":36,"n_cols":13,"rows_kept":36,"cut":false,"hidden":false,"merged":[[7,12,8,12],[35,5,35,6],[34,7,36,7],[9,5,9,6],[10,5,10,6],[11,5,11,6],[12,5,12,6],[13,5,13,6],[0,0,0,3],[1,1,1,4],[1,6,1,9],[1,10,2,10],[5,0,6,2],[5,3,6,4],[5,7,6,9],[5,10,6,11],[1,11,2,12],[2,6,2,7],[3,6,3,7],[3,11,3,12],[2,2,2,4],[3,2,3,4],[7,0,8,0],[7,2,8,2],[7,5,8,6],[7,7,8,7],[7,9,8,9],[10,0,13,0],[32,0,35,0],[28,0,31,0],[22,0,27,0],[17,0,21,0],[14,0,16,0]]}
[{"$f":"'配布部数一覧（表題入力）'!A1:B1","v":0}]
["広告主名",{"$f":"'配布部数一覧（表題入力）'!B2:C2","v":""},null,null,null,"サイズ",{"$f":"'配布部数一覧（表題入力）'!E2","v":0},null,null,null,"折込日",{"$f":"'配布部数一覧（表題入力）'!J2","v":"00:00:00"}]
["タイトル",null,{"$f":"'配布部数一覧（表題入力）'!B3","v":0},null,null,"頁　数",{"$f":"E9+L9","v":0},null,null,"　枚"]
["全体摘要",null,{"$f":"'配布部数一覧（表題入力）'!B4","v":0},null,null,"総　数",{"$f":"'配布部数一覧（表題入力）'!K29","v":0},null,null,"　枚","納期",{"$f":"'配布部数一覧（表題入力）'!J4","v":"00:00:00"}]
[]
["袋井市：",null,null,{"$f":"D9","v":17550},null,null,null,"周智郡森町：",null,null,{"$f":"K9","v":3200}]
[]
["扱紙",null,"販売店名　　　　　　　　　　　　　　（支店）","扱　数","折込枚数","摘要",null,"扱紙",null,"販売店名　　　　　　　　　　　　　　　　　（支店）","扱　数","折込枚数","摘要"]
[null,null,null,{"$f":"D10+D11+D15+D18+D23+D29+D33","v":17550},{"$f":"E10+E11+E15+E18+E23+E29+E33","v":0},null,null,null,null,null,{"$f":"K10+K11","v":3200},{"$f":"L10+L11","v":0}]
["中日",310000,"浅羽･小杉",1450,null,null,null,"中日",317000,"森･山口",1000]
["中日",311000,"袋井･森下",{"$f":"SUM(D12:D14)","v":1800},{"$f":"SUM(E12:E14)","v":0},null,null,"読朝毎静",318000,"森･山下",2200,{"$f":"SUM(L12:L13)","v":0}]
[null,311005,"中心部",1100]
[null,311006,"東名･BP以北堀越",350]
[null,311007,"広岡･国本･愛野",350]
["中日",312000,"袋井南部松村",{"$f":"SUM(D16:D17)","v":1100},{"$f":"SUM(E16:E17)","v":0}]
[null,312001,"袋井市南部",1050]
[null,312002,"玉越･西島",50]
["読朝毎静",313000,"袋井･山下",{"$f":"SUM(D19:D22)","v":3300},{"$f":"SUM(E19:E22)","v":0}]
[null,313001,"東地区",900]
[null,313002,"西地区",940]
[null,313003,"南地区",600]
[null,313004,"北地区",860]
["読朝毎静",314000,"袋井･萩田",{"$f":"SUM(D24:D28)","v":5100},{"$f":"SUM(E24:E28)","v":0}]
[null,314002,"浅   羽",2300]
[null,314003,"柳原・高南団地",580]
[null,314004,"駅前・栄町・三門町",380]
[null,314005,"豊沢・愛野",840]
[null,314006,"新池・川井",1000]
["読静",315000,"袋井北部尾高",{"$f":"SUM(D30:D32)","v":2700},{"$f":"SUM(E30:E32)","v":0}]
[null,315001,"袋井市",1900]
[null,315002,"森   町",700]
[null,315003,"磐田市敷地",100]
["中朝毎",316000,"袋井北部村松",{"$f":"SUM(D34:D36)","v":2100},{"$f":"SUM(E34:E36)","v":0}]
[null,316001,"袋井市",1480]
[null,316002,"森   町",450]
[null,316003,"磐田市敷地",170]

{"sheet":"掛川市","index":9,"n_rows":36,"n_cols":13,"rows_kept":36,"cut":false,"hidden":false,"merged":[[32,0,46,6],[36,7,46,12],[20,5,20,6],[21,5,21,6],[22,5,22,6],[23,5,23,6],[24,5,24,6],[25,5,25,6],[26,5,26,6],[27,5,27,6],[28,5,28,6],[17,0,28,0],[29,0,31,0],[9,7,20,7],[21,7,28,7],[29,7,35,7],[13,0,16,0],[17,5,17,6],[18,5,18,6],[19,5,19,6],[29,5,29,6],[30,5,30,6],[31,5,31,6],[15,5,15,6],[16,5,16,6],[9,5,9,6],[10,5,10,6],[14,5,14,6],[12,5,12,6],[3,6,3,7],[3,2,3,4],[13,5,13,6],[3,11,3,12],[7,5,8,6],[7,7,8,7],[7,9,8,9],[7,12,8,12],[5,7,6,9],[5,10,6,11],[5,0,6,2],[5,3,6,4],[9,0,12,0],[7,0,8,0],[7,2,8,2],[11,5,11,6],[0,0,0,3],[1,1,1,4],[1,6,1,9],[1,10,2,10],[1,11,2,12],[2,6,2,7],[2,2,2,4]]}
[{"$f":"'配布部数一覧（表題入力）'!A1:B1","v":0}]
["広告主名",{"$f":"'配布部数一覧（表題入力）'!B2:C2","v":""},null,null,null,"サイズ",{"$f":"'配布部数一覧（表題入力）'!E2","v":0},null,null,null,"折込日",{"$f":"'配布部数一覧（表題入力）'!J2","v":"00:00:00"}]
["タイトル",null,{"$f":"'配布部数一覧（表題入力）'!B3","v":0},null,null,"頁　数",{"$f":"E9+L9","v":0},null,null,"　枚"]
["全体摘要",null,{"$f":"'配布部数一覧（表題入力）'!B4","v":0},null,null,"総　数",{"$f":"'配布部数一覧（表題入力）'!K29","v":0},null,null,"　枚","納期",{"$f":"'配布部数一覧（表題入力）'!J4","v":"00:00:00"}]
[]
["掛川市：",null,null,{"$f":"D9+K9","v":25100}]
[]
["扱紙",null,"販売店名　　　　　　　　　　　　　　（支店）","扱　数","折込枚数","摘要",null,"扱紙",null,"販売店名　　　　　　　　　　　　　　　　　（支店）","扱　数","折込枚数","摘要"]
[null,null,null,{"$f":"D10+D14+D18+D30","v":9550},{"$f":"E10+E14+E18+E30","v":0},null,null,null,null,null,{"$f":"K22+K30+K10","v":15550},{"$f":"L10+L22+L30","v":0}]
["全",319000,"横須賀･松浦",{"$f":"SUM(D11:D13)","v":3050},{"$f":"SUM(E11:E13)","v":0},null,null,"毎静",323000,"掛川･風間",{"$f":"SUM(K11:K21)","v":5450},{"$f":"SUM(L11:L21)","v":0}]
[null,319001,"掛川市大須賀",2240,null,null,null,null,323001,"駅北周辺部",650]
[null,319002,"袋井市浅羽",310,null,null,null,null,323002,"駅   南",1120]
[null,319003,"袋井市笠原",500,null,null,null,null,323003,"城   北",350]
["全",320000,"大東･松浦",{"$f":"SUM(D15:D17)","v":2550},{"$f":"SUM(E15:E17)","v":0},null,null,null,323004,"水垂・葛ヶ丘",640]
[null,320001,"掛川市千浜",600,null,null,null,null,323005,"西   郷",460]
[null,320002,"掛川市大坂",1450,null,null,null,null,323006,"桜   木",420]
[null,320003,"掛川市中",500,null,null,null,null,323007,"曽   我",450]
["中日",321000,"掛川･松本",{"$f":"SUM(D19:D29)","v":2700},{"$f":"SUM(E19:E29)","v":0},null,null,null,323008,"葛川・西山口",510]
[null,321003,"駅北口周辺",528,null,null,null,null,323009,"大東･佐束",370]
[null,321004,"城   北",144,null,null,null,null,323010,"土   方",295]
[null,321005,"大   池",245,null,null,null,null,323011,"入山瀬",185]
[null,321006,"葛ヶ丘･西山口",492,null,null,null,"読静",324000,"掛川･外山",{"$f":"SUM(K23:K29)","v":6350},{"$f":"SUM(L23:L29)","v":0}]
[null,321007,"桜   木",543,null,null,null,null,324001,"中心部",900]
[null,321008,"西   郷",152,null,null,null,null,324002,"駅   南",755]
[null,321009,"初馬･倉真",85,null,null,null,null,324003,"二瀬川・大池・谷の口",1450]
[null,321010,"日   坂",57,null,null,null,null,324004,"初馬・西郷",800]
[null,321011,"曽   我",138,null,null,null,null,324005,"倉   真",350]
[null,321012,"和田岡",94,null,null,null,null,324006,"桜   木",1545]
[null,321013,"原   谷",222,null,null,null,null,324007,"和田岡",550]
["中日",322000,"掛川駅南武藤",{"$f":"SUM(D31:D32)","v":1250},{"$f":"SUM(E31:E32)","v":0},null,null,"朝静",325000,"掛川･神谷",{"$f":"SUM(K31:K36)","v":3750},{"$f":"SUM(L31:L36)","v":0}]
[null,322001,"掛川市駅南",1000,null,null,null,null,325001,"中心部",690]
[null,322002,"大   東",250,null,null,null,null,325002,"原野谷",870]
[null,null,null,null,null,null,null,null,325003,"国北・旭ヶ丘",600]
[null,null,null,null,null,null,null,null,325004,"宮脇・山口・逆川",1040]
[null,null,null,null,null,null,null,null,325005,"日坂・東山",250]
[null,null,null,null,null,null,null,null,325006,"上内田",300]

{"sheet":"菊川市･御前崎市","index":10,"n_rows":26,"n_cols":13,"rows_kept":26,"cut":false,"hidden":false,"merged":[[16,7,19,7],[20,7,25,7],[10,0,13,0],[14,0,17,0],[18,0,20,0],[25,5,25,6],[17,5,17,6],[18,5,18,6],[19,5,19,6],[20,5,20,6],[21,5,21,6],[22,5,22,6],[23,5,23,6],[24,5,24,6],[16,5,16,6],[9,5,9,6],[9,7,15,7],[10,5,10,6],[11,5,11,6],[12,5,12,6],[13,5,13,6],[14,5,14,6],[15,5,15,6],[3,6,3,7],[2,2,2,4],[3,2,3,4],[7,12,8,12],[3,11,3,12],[5,0,6,2],[5,3,6,4],[5,7,6,9],[5,10,6,11],[7,0,8,0],[7,2,8,2],[7,5,8,6],[7,7,8,7],[7,9,8,9],[0,0,0,3],[1,1,1,4],[1,6,1,9],[1,10,2,10],[1,11,2,12],[2,6,2,7]]}
[{"$f":"'配布部数一覧（表題入力）'!A1:B1","v":0}]
["広告主名",{"$f":"'配布部数一覧（表題入力）'!B2:C2","v":""},null,null,null,"サイズ",{"$f":"'配布部数一覧（表題入力）'!E2","v":0},null,null,null,"折込日",{"$f":"'配布部数一覧（表題入力）'!J2","v":"00:00:00"}]
["タイトル",null,{"$f":"'配布部数一覧（表題入力）'!B3","v":0},null,null,"頁　数",{"$f":"E9+L9","v":0},null,null,"　枚"]
["全体摘要",null,{"$f":"'配布部数一覧（表題入力）'!B4","v":0},null,null,"総　数",{"$f":"'配布部数一覧（表題入力）'!K29","v":0},null,null,"　枚","納期",{"$f":"'配布部数一覧（表題入力）'!J4","v":"00:00:00"}]
[]
["菊川市：",null,null,{"$f":"D9","v":9700},null,null,null,"御前崎市：",null,null,{"$f":"K9","v":4450}]
[]
["扱紙",null,"販売店名　　　　　　　　　　　　　　（支店）","扱　数","折込枚数","摘要",null,"扱紙",null,"販売店名　　　　　　　　　　　　　　　　　（支店）","扱　数","折込枚数","摘要"]
[null,null,null,{"$f":"D10+D11+D15+D19","v":9700},{"$f":"E10+E11+E15+E19","v":0},null,null,null,null,null,{"$f":"K10+K17+K21","v":4450},{"$f":"L10+L17+L21","v":0}]
["中日",326000,"菊川･斎藤",1500,null,null,null,"中日",330000,"御前崎･増田",{"$f":"SUM(K11:K16)","v":1850},{"$f":"SUM(L11:L16)","v":0}]
["読朝毎静",327000,"菊川･山本",{"$f":"SUM(D12:D14)","v":3650},{"$f":"SUM(E12:E14)","v":0},null,null,null,330001,"池新田地区",480]
[null,327001,"牧之原",350,null,null,null,null,330002,"佐倉地区",305]
[null,327002,"東名以南",300,null,null,null,null,330003,"高   松",200]
[null,327003,"東名以北",3000,null,null,null,null,330004,"朝比奈",215]
["中日",328000,"小笠･永田",{"$f":"SUM(D16:D18)","v":1350},{"$f":"SUM(E16:E18)","v":0},null,null,null,330005,"新   野",250]
[null,328001,"小   笠",1030,null,null,null,null,330006,"御前崎地区",400]
[null,328002,"菊川市南部",280,null,null,null,"読朝毎静",331000,"浜岡･西郷",{"$f":"SUM(K18:K20)","v":1500},{"$f":"SUM(L18:L20)","v":0}]
[null,328003,"西之谷",40,null,null,null,null,331001,"佐   倉",550]
["読朝毎静",329000,"菊川･松下",{"$f":"SUM(D20:D21)","v":3200},{"$f":"SUM(E20:E21)","v":0},null,null,null,331002,"池新田",700]
[null,329001,"小   笠",1650,null,null,null,null,331003,"朝比奈",250]
[null,329002,"菊川南部",1550,null,null,null,"読朝毎静",332000,"浜岡･岡村",{"$f":"SUM(K22:K26)","v":1100},{"$f":"SUM(L22:L26)","v":0}]
[null,null,null,null,null,null,null,null,332001,"池新田",650]
[null,null,null,null,null,null,null,null,332002,"塩   原",100]
[null,null,null,null,null,null,null,null,332003,"合   戸",100]
[null,null,null,null,null,null,null,null,332004,"新   野",150]
[null,null,null,null,null,null,null,null,332005,"門   屋",100]

{"sheet":"牧之原市･榛原郡･島田市","index":11,"n_rows":42,"n_cols":13,"rows_kept":42,"cut":false,"hidden":false,"merged":[[31,7,35,7],[34,0,35,2],[34,3,35,4],[29,5,29,6],[32,5,32,6],[36,0,37,0],[36,2,37,2],[36,5,37,6],[41,5,41,6],[40,5,40,6],[39,5,39,6],[38,5,38,6],[9,7,11,7],[7,12,8,12],[12,7,20,7],[21,7,30,7],[7,0,8,0],[7,2,8,2],[7,5,8,6],[7,7,8,7],[7,9,8,9],[9,0,15,0],[27,0,29,0],[24,0,26,0],[21,0,23,0],[16,0,19,0],[3,6,3,7],[3,11,3,12],[2,2,2,4],[3,2,3,4],[5,0,6,2],[5,3,6,4],[5,7,6,9],[5,10,6,11],[0,0,0,3],[1,1,1,4],[1,6,1,9],[1,10,2,10],[1,11,2,12],[2,6,2,7]]}
[{"$f":"'配布部数一覧（表題入力）'!A1:B1","v":0}]
["広告主名",{"$f":"'配布部数一覧（表題入力）'!B2:C2","v":""},null,null,null,"サイズ",{"$f":"'配布部数一覧（表題入力）'!E2","v":0},null,null,null,"折込日",{"$f":"'配布部数一覧（表題入力）'!J2","v":"00:00:00"}]
["タイトル",null,{"$f":"'配布部数一覧（表題入力）'!B3","v":0},null,null,"頁　数",{"$f":"E9+E38+L9","v":0},null,null,"　枚"]
["全体摘要",null,{"$f":"'配布部数一覧（表題入力）'!B4","v":0},null,null,"総　数",{"$f":"'配布部数一覧（表題入力）'!K29","v":0},null,null,"　枚","納期",{"$f":"'配布部数一覧（表題入力）'!J4","v":"00:00:00"}]
[]
["牧之原市/榛原郡：",null,null,{"$f":"D9","v":17350},null,null,null,"島田市：",null,null,{"$f":"K9","v":18700}]
[]
["扱紙",null,"販売店名　　　　　　　　　　　　　　（支店）","扱　数","折込枚数","摘要",null,"扱紙",null,"販売店名　　　　　　　　　　　　　　　　　（支店）","扱　数","折込枚数","摘要"]
[null,null,null,{"$f":"D10+D17+D21+D22+D25+D28","v":17350},{"$f":"E10+E17+E21+E22+E25+E28","v":0},null,null,null,null,null,{"$f":"K10+K13+K22+K32","v":18700},{"$f":"L10+L13+L22+L32","v":0}]
["読朝毎静",402000702002,"吉田･塚本",{"$f":"SUM(D11:D16)","v":7700},{"$f":"SUM(E11:E16)","v":0},null,null,"中日",415000701001,"島田･赤井",{"$f":"SUM(K11:K12)","v":700},{"$f":"SUM(L11:L12)","v":0}]
[null,402001,"住吉",2100,null,null,null,null,415001,"大井川以北",450]
[null,402002,"片岡",1000,null,null,null,null,415002,"初　倉",250]
[null,402003,"川尻",1300,null,null,null,"朝静",416000701002,"島田･ﾔﾌﾞｻﾞｷ",{"$f":"SUM(K14:K21)","v":5700},{"$f":"SUM(L14:L21)","v":0}]
[null,402004,"神戸･大幡",1600,null,null,null,null,416001,"伊久美",700]
[null,402005,"牧之原市坂部",500,null,null,null,null,416002,"向谷・中溝・旗指",280]
[null,402006,"島田市初倉",1200,null,null,null,null,416003,"稲荷・三ツ谷",630]
["読朝毎静",404000702004,"榛原･内藤",{"$f":"SUM(D18:D20)","v":3550},{"$f":"SUM(E18:E20)","v":0},null,null,null,416004,"元島田・中河・野田",1040]
[null,404001,"静波",1250,null,null,null,null,416005,"向島・本通・市街地",850]
[null,404002,"細江",1600,null,null,null,null,416007,"横井",370]
[null,404003,"勝間田･勝俣",700,null,null,null,null,416009,"南･旭町･御仮屋町",380]
["中日",405000702005,"相良･尾形",400,null,null,null,null,416010,"初倉",1450]
["読朝毎静",406000702006,"相良･松下",{"$f":"SUM(D23:D24)","v":1600},{"$f":"SUM(E23:E24)","v":0},null,null,"読毎静",417000701003,"島田･浅野",{"$f":"SUM(K23:K31)","v":8200},{"$f":"SUM(L23:L31)","v":0}]
[null,406001,"牧之原市",1480,null,null,null,null,417001,"伊太･向谷",1050]
[null,406002,"御前崎･菊川",120,null,null,null,null,417002,"中央町･中溝",1050]
["読朝毎静",407000702007,"相良･牧野",{"$f":"SUM(D26:D27)","v":1600},{"$f":"SUM(E26:E27)","v":0},null,null,null,417003,"元島田・中河",1000]
[null,407001,"牧之原市",1300,null,null,null,null,417004,"向島・河原",650]
[null,407002,"比木",300,null,null,null,null,417005,"島田駅北",800]
["読朝毎静",408000702008,"地頭方･山下",{"$f":"SUM(D29:D30)","v":2500},{"$f":"SUM(E29:E30)","v":0},null,null,null,417007,"島田駅南",1000]
[null,408001,"牧之原市",800,null,null,null,null,417009,"六合駅北",950]
[null,408002,"御前崎市",1700,null,null,null,null,417010,"六合駅南",650]
[null,null,null,null,null,null,null,null,417011,"六合駅東",1050]
[null,null,null,null,null,null,null,"合",409000702009,"金谷･佐藤",{"$f":"SUM(K33:K36)","v":4100},{"$f":"SUM(L33:L36)","v":0}]
[null,null,null,null,null,null,null,null,409001,"五和‐国１BP以北",1350]
[null,null,null,null,null,null,null,null,409002,"市街地",1900]
["榛原郡川根：",null,null,{"$f":"D38","v":3000},null,null,null,null,409003,"神谷城",150]
[null,null,null,null,null,null,null,null,409004,"牧之原市",700]
["扱紙",null,"販売店名　　　　　　　　　　　　　　　　　（支店）","扱　数","折込枚数","摘要"]
[null,null,null,{"$f":"D39+D40+D41+D42","v":3000},{"$f":"E39+E40+E41+E42","v":0}]
["合",411000702011,"家山･工藤",1350]
["合",412000702012,"下泉･滝澤",700]
["合",413000702013,"徳山･滝澤",500]
["合",414000702014,"千頭･住谷",450]

{"sheet":"藤枝市･焼津市","index":12,"n_rows":45,"n_cols":13,"rows_kept":45,"cut":false,"hidden":false,"merged":[[41,7,44,7],[37,7,40,7],[27,7,36,7],[19,7,26,7],[9,7,18,7],[36,5,36,6],[35,5,35,6],[32,0,37,0],[22,0,31,0],[42,5,42,6],[41,5,41,6],[40,5,40,6],[39,5,39,6],[38,5,38,6],[37,5,37,6],[34,5,34,6],[22,5,22,6],[23,5,23,6],[24,5,24,6],[25,5,25,6],[31,5,31,6],[32,5,32,6],[33,5,33,6],[15,5,15,6],[16,5,16,6],[17,5,17,6],[18,5,18,6],[19,5,19,6],[20,5,20,6],[26,5,26,6],[27,5,27,6],[28,5,28,6],[29,5,29,6],[30,5,30,6],[7,0,8,0],[7,2,8,2],[7,5,8,6],[7,7,8,7],[7,9,8,9],[0,0,0,3],[1,1,1,4],[1,6,1,9],[1,10,2,10],[5,0,6,2],[5,3,6,4],[5,7,6,9],[5,10,6,11],[38,0,41,0],[1,11,2,12],[2,6,2,7],[3,6,3,7],[3,11,3,12],[2,2,2,4],[3,2,3,4],[7,12,8,12],[21,5,21,6],[9,0,21,0],[13,5,13,6],[14,5,14,6],[9,5,9,6],[10,5,10,6],[11,5,11,6],[12,5,12,6]]}
[{"$f":"'配布部数一覧（表題入力）'!A1:B1","v":0}]
["広告主名",{"$f":"'配布部数一覧（表題入力）'!B2:C2","v":""},null,null,null,"サイズ",{"$f":"'配布部数一覧（表題入力）'!E2","v":0},null,null,null,"折込日",{"$f":"'配布部数一覧（表題入力）'!J2","v":"00:00:00"}]
["タイトル",null,{"$f":"'配布部数一覧（表題入力）'!B3","v":0},null,null,"頁　数",{"$f":"E9+L9","v":0},null,null,"　枚"]
["全体摘要",null,{"$f":"'配布部数一覧（表題入力）'!B4","v":0},null,null,"総　数",{"$f":"'配布部数一覧（表題入力）'!K29","v":0},null,null,"　枚","納期",{"$f":"'配布部数一覧（表題入力）'!J4","v":"00:00:00"}]
[]
["藤枝市：",null,null,{"$f":"D9","v":30050},null,null,null,"焼津市：",null,null,{"$f":"K9","v":30650}]
[]
["扱紙",null,"販売店名　　　　　　　　　　　　　　（支店）","扱　数","折込枚数","摘要",null,"扱紙",null,"販売店名　　　　　　　　　　　　　　　　　（支店）","扱　数","折込枚数","摘要"]
[null,null,null,{"$f":"D10+D23+D33+D39","v":30050},{"$f":"E10+E23+E33+E39","v":0},null,null,null,null,null,{"$f":"K10+K20+K28+K38+K42","v":30650},{"$f":"L10+L20+L28+L38+L42","v":0}]
["読毎中静日",418000701004,"藤枝・江崎",{"$f":"SUM(D11:D22)","v":11500},{"$f":"SUM(E11:E22)","v":0},null,null,"朝中静",421000701008,"焼津・藪崎",{"$f":"SUM(K11:K19)","v":15600},{"$f":"SUM(L11:L19)","v":0}]
[null,418001,"駅北･駅前",1350,null,null,null,null,421001,"東益津",1300]
[null,418002,"駅南･東部",150,null,null,null,null,421002,"駅北",1700]
[null,418003,"駅南･西部",350,null,null,null,null,421003,"豊田",2300]
[null,418004,"駅南･南部",300,null,null,null,null,421004,"焼津",1350]
[null,418005,"駅南･北部",700,null,null,null,null,421005,"小川",1950]
[null,418006,"志太",1050,null,null,null,null,421006,"石津",1500]
[null,418007,"藤岡",550,null,null,null,null,421007,"和田",1900]
[null,418008,"藤枝",2650,null,null,null,null,421008,"大富",2300]
[null,418009,"西益津",600,null,null,null,null,421009,"大井川下小杉",1300]
[null,418010,"広幡",850,null,null,null,"毎静",422000701009,"焼津・長倉",{"$f":"SUM(K21:K27)","v":5300},{"$f":"SUM(L21:L27)","v":0}]
[null,418011,"葉梨",2000,null,null,null,null,422001,"浜当目東益津",600]
[null,418012,"瀬戸谷谷稲葉",950,null,null,null,null,422002,"駅北･八楠",650]
["朝静東産",419000701005,"藤枝・育伸社",{"$f":"SUM(D24:D32)","v":12100},{"$f":"SUM(E24:E32)","v":0},null,null,null,422003,"小川･豊田",1050]
[null,419001,"駅北･駅前",1400,null,null,null,null,422004,"栄町･本町",550]
[null,419002,"駅南･東部/北部",2850,null,null,null,null,422005,"大富",1100]
[null,419003,"駅南･西部",1150,null,null,null,null,422006,"石津･和田",1100]
[null,419004,"藤枝",1400,null,null,null,null,422007,"大井川下小杉",250]
[null,419005,"藤岡",700,null,null,null,"読静",423000701010,"焼津・塩川",{"$f":"SUM(K29:K37)","v":6350},{"$f":"SUM(L29:L37)","v":0}]
[null,419006,"西益津",600,null,null,null,null,423001,"東益津",600]
[null,419007,"広幡",1500,null,null,null,null,423002,"駅北",700]
[null,419008,"葉梨",500,null,null,null,null,423003,"豊田",1700]
[null,419009,"志太",2000,null,null,null,null,423004,"焼津",500]
["読静",420000701006,"藤枝・池谷",{"$f":"SUM(D34:D38)","v":3950},{"$f":"SUM(E34:E38)","v":0},null,null,null,423005,"小川",1100]
[null,420001,"駅北･駅前",350,null,null,null,null,423006,"石津",250]
[null,420002,"駅南･東部",1200,null,null,null,null,423007,"和田",300]
[null,420003,"駅南･西部",800,null,null,null,null,423008,"大富",1100]
[null,420004,"駅南･南部",1050,null,null,null,null,423009,"大井川下小杉",100]
[null,420005,"駅南･北部",550,null,null,null,"合",425000701012,"大井川・新聞販売",{"$f":"SUM(K39:K41)","v":2000},{"$f":"SUM(L39:L41)","v":0}]
["合",424000701011,"岡部・太田",{"$f":"SUM(D40:D43)","v":2500},{"$f":"SUM(E40:E43)","v":0},null,null,null,425001,"上新田･上泉",1100]
[null,424001,"三輪",780,null,null,null,null,425002,"下江留･吉永",350]
[null,424002,"朝比奈",420,null,null,null,null,425003,"西島中島飯淵",550]
[null,424003,"町",1300,null,null,null,"合",426000701013,"大井川・土井",{"$f":"SUM(K43:K45)","v":1400},{"$f":"SUM(L43:L45)","v":0}]
[null,null,null,null,null,null,null,null,426001,"高新田･藤守",200]
[null,null,null,null,null,null,null,null,426002,"宗高･上小杉",650]
[null,null,null,null,null,null,null,null,426003,"利右衛門吉永",550]

{"sheet":"静岡市①","index":13,"n_rows":38,"n_cols":13,"rows_kept":38,"cut":false,"hidden":false,"merged":[[38,0,46,6],[27,0,37,0],[13,0,26,0],[1,11,2,12],[3,11,3,12],[7,12,8,12],[7,7,8,7],[1,10,2,10],[2,6,2,7],[3,6,3,7],[7,9,8,9],[7,5,8,6],[5,3,6,4],[15,5,15,6],[12,5,12,6],[17,7,32,7],[20,5,20,6],[21,5,21,6],[19,5,19,6],[11,5,11,6],[18,5,18,6],[14,5,14,6],[13,5,13,6],[1,6,1,9],[10,5,10,6],[5,0,6,2],[9,0,12,0],[0,0,0,3],[1,1,1,4],[7,0,8,0],[7,2,8,2],[2,2,2,4],[3,2,3,4],[9,7,16,7],[9,5,9,6]]}
[{"$f":"'配布部数一覧（表題入力）'!A1:B1","v":0}]
["広告主名",{"$f":"'配布部数一覧（表題入力）'!B2:C2","v":""},null,null,null,"サイズ",{"$f":"'配布部数一覧（表題入力）'!E2","v":0},null,null,null,"折込日",{"$f":"'配布部数一覧（表題入力）'!J2","v":"00:00:00"}]
["タイトル",null,{"$f":"'配布部数一覧（表題入力）'!B3","v":0},null,null,"頁　数",{"$f":"E9+L9","v":0},null,null,"　枚"]
["全体摘要",null,{"$f":"'配布部数一覧（表題入力）'!B4","v":0},null,null,"総　数",{"$f":"'配布部数一覧（表題入力）'!K29","v":0},null,null,"　枚","納期",{"$f":"'配布部数一覧（表題入力）'!J4","v":"00:00:00"}]
[]
["静岡市①葵区・駿河区：",null,null,{"$f":"D9+K9","v":102400}]
[]
["扱紙",null,"販売店名　　　　　　　　　　　　　　（支店）","扱　数","折込枚数","摘要",null,"扱紙",null,"販売店名　　　　　　　　　　　　　　　　　（支店）","扱　数","折込枚数","摘要"]
[null,null,null,{"$f":"D10+D14+D23+D24+D28+D19","v":33250},{"$f":"E10+E14+E23+E24+E28+E19","v":0},null,null,null,null,null,{"$f":"K10+K18","v":69150},{"$f":"L10+L18","v":0}]
["中日",501000,"静岡中日・森下",{"$f":"SUM(D11:D13)","v":1100},{"$f":"SUM(E11:E13)","v":0},null,null,"朝静",504000,"静岡朝日・江河",{"$f":"SUM(K11:K17)","v":19600},{"$f":"SUM(L11:L17)","v":0}]
[null,501001,"葵区",700,null,null,null,null,504001,"中田店",3000]
[null,501002,"駿河区",300,null,null,null,null,504002,"中島店",1300]
[null,501003,"山間部",100,null,null,null,null,504003,"登呂店",3700]
["読静",506000,"静岡読売・県庁前",{"$f":"SUM(D15:D18)","v":1600},{"$f":"SUM(E15:E18)","v":0},null,null,null,504004,"小鹿店",3600]
[null,506001,"本   店",800,null,null,null,null,504005,"八幡店",2000]
[null,506002,"西   店",150,null,null,null,null,504006,"おさだ(用宗)",3300]
[null,506005,"用宗店",350,null,null,null,null,504007,"おさだ(丸子)",2700]
[null,506006,"丸子店",300,null,null,null,"毎静",502000,"静岡毎日・江崎",{"$f":"SUM(K19:K33)","v":49550},{"$f":"SUM(L19:L33)","v":0}]
[null,505000,"静岡読売・駅南",{"$f":"SUM(D20:D22)","v":1300},{"$f":"SUM(E20:E22)","v":0},null,null,null,502003,"本通店",4150]
[null,505001,"東   店",500,null,null,null,null,502005,"八千代町店",3800]
[null,505002,"南   店",400,null,null,null,null,502006,"平和町店",3100]
[null,505003,"登呂店",400,null,null,null,null,502007,"松富店",2700]
[null,507000,"静岡読売・北部",1400,null,null,null,null,502008,"上土店",3500]
[null,508000,"静岡読売・上土",{"$f":"SUM(D25:D27)","v":4450},{"$f":"SUM(E25:E27)","v":0},null,null,null,502009,"瀬名店",2500]
[null,508001,"上土店",2250,null,null,null,null,502010,"岳美店",3300]
[null,508002,"瀬名店",1900,null,null,null,null,502011,"羽鳥店",2100]
[null,508003,"麻機店",300,null,null,null,null,502012,"牧ｹ谷店",1700]
["朝静",503000,"静岡朝日・中央",{"$f":"SUM(D29:D38)","v":23400},{"$f":"SUM(E29:E38)","v":0},null,null,null,502013,"丸子店",3600]
[null,503015,"松富地区",3300,null,null,null,null,502014,"用宗店",3300]
[null,503016,"篭上地区",2000,null,null,null,null,502015,"南町店",3400]
[null,503017,"本通地区",2600,null,null,null,null,502016,"中田店",5600]
[null,503018,"安東地区",4850,null,null,null,null,502017,"曲金店",1400]
[null,503019,"鷹匠地区",1600,null,null,null,null,502019,"高松店",5400]
[null,503020,"上土地区",2500]
[null,503021,"麻機地区",1950]
[null,503022,"瀬名地区",1400]
[null,503023,"羽鳥地区",2100]
[null,503024,"安倍口地区",1100]

{"sheet":"静岡市②","index":14,"n_rows":27,"n_cols":13,"rows_kept":27,"cut":false,"hidden":false,"merged":[[0,0,0,3],[1,1,1,4],[12,5,12,6],[11,5,11,6],[3,6,3,7],[10,5,10,6],[9,5,9,6],[2,2,2,4],[3,2,3,4],[5,0,6,2],[5,3,6,4],[7,7,8,7],[7,0,8,0],[7,2,8,2],[9,0,17,0],[1,10,2,10],[1,11,2,12],[2,6,2,7],[1,6,1,9],[3,11,3,12],[7,12,8,12],[7,9,8,9],[7,5,8,6],[27,7,46,12],[19,7,26,7],[14,5,14,6],[15,5,15,6],[9,7,18,7],[13,5,13,6]]}
[{"$f":"'配布部数一覧（表題入力）'!A1:B1","v":0}]
["広告主名",{"$f":"'配布部数一覧（表題入力）'!B2:C2","v":""},null,null,null,"サイズ",{"$f":"'配布部数一覧（表題入力）'!E2","v":0},null,null,null,"折込日",{"$f":"'配布部数一覧（表題入力）'!J2","v":"00:00:00"}]
["タイトル",null,{"$f":"'配布部数一覧（表題入力）'!B3","v":0},null,null,"頁　数",{"$f":"E9+L9","v":0},null,null,"　枚"]
["全体摘要",null,{"$f":"'配布部数一覧（表題入力）'!B4","v":0},null,null,"総　数",{"$f":"'配布部数一覧（表題入力）'!K29","v":0},null,null,"　枚","納期",{"$f":"'配布部数一覧（表題入力）'!J4","v":"00:00:00"}]
[]
["静岡市②清水区：",null,null,{"$f":"D9+K9","v":52300}]
[]
["扱紙",null,"販売店名　　　　　　　　　　　　　　（支店）","扱　数","折込枚数","摘要",null,"扱紙",null,"販売店名　　　　　　　　　　　　　　　　　（支店）","扱　数","折込枚数","摘要"]
[null,null,null,{"$f":"D10+D16+D17+D18","v":11100},{"$f":"E10+E16+E17+E18","v":0},null,null,null,null,null,{"$f":"K10+K17+K18+K19+K20+K27","v":41200},{"$f":"L10+L17+L18+L19+L20+L27","v":0}]
["読静",515000,"清水・中島",{"$f":"SUM(D11:D15)","v":6000},{"$f":"SUM(E11:E15)","v":0},null,null,"朝静",514000,"清水・石原",{"$f":"SUM(K11:K16)","v":10500},{"$f":"SUM(L11:L16)","v":0}]
[null,515001,"浜田地区",750,null,null,null,null,514001,"本   店",1850]
[null,515002,"辻地区",1000,null,null,null,null,514002,"三保店",1250]
[null,515003,"江尻地区",1150,null,null,null,null,514003,"北   店",1950]
[null,515004,"飯田地区",1700,null,null,null,null,514004,"入江店",1200]
[null,515005,"庵原地区",1400,null,null,null,null,514005,"桜ヶ丘店",2600]
[null,516000,"草薙・中島",2200,null,null,null,null,514006,"草薙店",1650]
[null,519000,"興津・あさがお",1400,null,null,null,null,518000,"興津・多々良",2000]
[null,522000,"蒲原・あさがお",1500,null,null,null,null,520000,"蒲原・有元",700]
[null,null,null,null,null,null,null,null,523000,"由比・河西",1100]
[null,null,null,null,null,null,null,"毎静",513000,"清水・シミズ",{"$f":"SUM(K21:K26)","v":26000},{"$f":"SUM(L21:L26)","v":0}]
[null,null,null,null,null,null,null,null,513012,"入江江尻店",3900]
[null,null,null,null,null,null,null,null,513013,"飯田高部店",4800]
[null,null,null,null,null,null,null,null,513014,"岡船越店",5200]
[null,null,null,null,null,null,null,null,513015,"有度店",3550]
[null,null,null,null,null,null,null,null,513016,"駒越三保店",4600]
[null,null,null,null,null,null,null,null,513017,"庵原興津店",3950]
[null,null,null,null,null,null,null,null,521000,"蒲原・江本",900]

{"sheet":"富士宮･富士市","index":15,"n_rows":40,"n_cols":13,"rows_kept":40,"cut":false,"hidden":false,"merged":[[29,0,39,0],[28,5,28,6],[27,5,27,6],[39,5,39,6],[38,5,38,6],[37,5,37,6],[36,5,36,6],[35,5,35,6],[34,5,34,6],[33,5,33,6],[32,5,32,6],[31,5,31,6],[30,5,30,6],[29,5,29,6],[24,0,28,0],[26,5,26,6],[1,11,2,12],[3,11,3,12],[1,10,2,10],[1,6,1,9],[2,6,2,7],[25,5,25,6],[24,5,24,6],[23,5,23,6],[7,12,8,12],[7,7,8,7],[7,5,8,6],[7,9,8,9],[22,7,24,7],[18,7,21,7],[21,0,23,0],[17,0,20,0],[9,7,17,7],[9,5,9,6],[17,5,17,6],[11,5,11,6],[10,5,10,6],[16,5,16,6],[22,5,22,6],[21,5,21,6],[20,5,20,6],[19,5,19,6],[18,5,18,6],[2,2,2,4],[3,2,3,4],[0,0,0,3],[15,5,15,6],[14,5,14,6],[13,5,13,6],[12,5,12,6],[10,0,16,0],[1,1,1,4],[5,0,6,2],[5,3,6,4],[3,6,3,7],[7,0,8,0],[7,2,8,2]]}
[{"$f":"'配布部数一覧（表題入力）'!A1:B1","v":0}]
["広告主名",{"$f":"'配布部数一覧（表題入力）'!B2:C2","v":""},null,null,null,"サイズ",{"$f":"'配布部数一覧（表題入力）'!E2","v":0},null,null,null,"折込日",{"$f":"'配布部数一覧（表題入力）'!J2","v":"00:00:00"}]
["タイトル",null,{"$f":"'配布部数一覧（表題入力）'!B3","v":0},null,null,"頁　数",{"$f":"E9+L9","v":0},null,null,"　枚"]
["全体摘要",null,{"$f":"'配布部数一覧（表題入力）'!B4","v":0},null,null,"総　数",{"$f":"'配布部数一覧（表題入力）'!K29","v":0},null,null,"　枚","納期",{"$f":"'配布部数一覧（表題入力）'!J4","v":"00:00:00"}]
[]
["富士宮市/富士市(吉原・鷹岡)：",null,null,{"$f":"D9+K9","v":69650}]
[]
["扱紙",null,"販売店名　　　　　　　　　　　　　　（支店）","扱　数","折込枚数","摘要",null,"扱紙",null,"販売店名　　　　　　　　　　　　　　　　　（支店）","扱　数","折込枚数","摘要"]
[null,null,null,{"$f":"D10+D11+D18+D22+D25+D30","v":34600},{"$f":"E10+E11+E18+E22+E25+E30","v":0},null,null,null,null,null,{"$f":"K10+K19+K23+K26+K27+K28+K29+K30","v":35050},{"$f":"L10+L19+L23+L26+L27+L28+L29+L30","v":0}]
["東京中日",604000,"富士宮　中西",300,null,null,null,"朝静",606000,"富士吉原　星野",{"$f":"SUM(K11:K18)","v":19000},{"$f":"SUM(L11:L18)","v":0}]
["読静",605000,"富士宮　ﾂﾀｳｪﾙ",{"$f":"SUM(D12:D17)","v":8500},{"$f":"SUM(E12:E17)","v":0},null,null,null,606001,"伝法･吉原",3350]
[null,605001,"駅南中央",2200,null,null,null,null,606002,"広見･大淵",1550]
[null,605002,"小泉･富士根",1800,null,null,null,null,606003,"今泉･原田",3100]
[null,605003,"大月線東側",850,null,null,null,null,606004,"富士見台",1700]
[null,605004,"大月線西側",1650,null,null,null,null,606005,"鈴　川",1450]
[null,605005,"北山以北",500,null,null,null,null,606006,"中　里",2050]
[null,605006,"富士市･天間",1500,null,null,null,null,606007,"富士駅北",2900]
["朝静",601000,"富士宮　中野",{"$f":"SUM(D19:D21)","v":4950},{"$f":"SUM(E19:E21)","v":0},null,null,null,606008,"富士駅南",2900]
[null,601001,"万   野",1600,null,null,null,"読静中",609000,"富士　雨森",{"$f":"SUM(K20:K22)","v":2600},{"$f":"SUM(L20:L22)","v":0}]
[null,601002,"淀師・宮原・外神",2850,null,null,null,null,609001,"駅北東部",1300]
[null,601003,"白糸・上井出",500,null,null,null,null,609002,"駅北西部",1300]
["朝静",602000,"富士宮　南部中野",{"$f":"SUM(D23:D24)","v":3150},{"$f":"SUM(E23:E24)","v":0},null,null,null,609005,"駅北北部",0]
[null,602001,"中里・野中・星山",2450,null,null,null,"毎静",610000,"富士　田畑",{"$f":"SUM(K24:K25)","v":4800},{"$f":"SUM(L24:L25)","v":0}]
[null,602002,"芝川･袖野",700,null,null,null,null,610001,"駅   北",1200]
["毎静",603000,"富士宮　鈴木",{"$f":"SUM(D26:D29)","v":9000},{"$f":"SUM(E26:E29)","v":0},null,null,null,610002,"駅   南",3600]
[null,603001,"本   店",1850,null,null,null,"朝毎静",611000,"鷹岡　中野",1800]
[null,603002,"大岩店",3870,null,null,null,"読静",612000,"鷹岡　安倍",2000]
[null,603003,"北山以北",2080,null,null,null,"毎朝静",613000,"鷹岡　NP鷹岡",1250]
[null,603004,"芝川･袖野除く",1200,null,null,null,"合",615000,"富士川　石井",2100]
["読静",608000,"吉原　植草",{"$f":"SUM(D31:D40)","v":8700},{"$f":"SUM(E31:E40)","v":0},null,null,"合",614000,"松野　佐野",1500]
[null,608001,"吉   原",600]
[null,608002,"伝   法",1640]
[null,608003,"今   泉",800]
[null,608004,"富士見台",760]
[null,608005,"神   戸",0]
[null,608006,"広   見",1450]
[null,608007,"大   渕",2000]
[null,608008,"根   方",850]
[null,608009,"田   子",600]
[null,608010,"鈴   川",0]

{"sheet":"沼津市","index":16,"n_rows":38,"n_cols":13,"rows_kept":38,"cut":false,"hidden":false,"merged":[[26,0,37,0],[9,0,14,0],[20,5,20,6],[19,5,19,6],[14,5,14,6],[13,5,13,6],[12,5,12,6],[11,5,11,6],[10,5,10,6],[16,5,16,6],[17,5,17,6],[15,0,25,0],[18,5,18,6],[22,5,22,6],[21,5,21,6],[9,5,9,6],[0,0,0,3],[1,1,1,4],[1,6,1,9],[1,10,2,10],[7,0,8,0],[7,2,8,2],[7,7,8,7],[7,5,8,6],[5,0,6,2],[5,3,6,4],[7,9,8,9],[1,11,2,12],[2,6,2,7],[3,6,3,7],[3,11,3,12],[2,2,2,4],[3,2,3,4],[7,12,8,12],[26,5,26,6],[9,7,13,7],[15,7,17,7],[20,7,46,12],[27,5,27,6],[23,5,23,6],[24,5,24,6],[25,5,25,6],[15,5,15,6]]}
[{"$f":"'配布部数一覧（表題入力）'!A1:B1","v":0}]
["広告主名",{"$f":"'配布部数一覧（表題入力）'!B2:C2","v":""},null,null,null,"サイズ",{"$f":"'配布部数一覧（表題入力）'!E2","v":0},null,null,null,"折込日",{"$f":"'配布部数一覧（表題入力）'!J2","v":"00:00:00"}]
["タイトル",null,{"$f":"'配布部数一覧（表題入力）'!B3","v":0},null,null,"頁　数",{"$f":"E9+L9","v":0},null,null,"　枚"]
["全体摘要",null,{"$f":"'配布部数一覧（表題入力）'!B4","v":0},null,null,"総　数",{"$f":"'配布部数一覧（表題入力）'!K29","v":0},null,null,"　枚","納期",{"$f":"'配布部数一覧（表題入力）'!J4","v":"00:00:00"}]
[]
["沼津市：",null,null,{"$f":"D9+K9","v":49600}]
[]
["扱紙",null,"販売店名　　　　　　　　　　　　　　（支店）","扱　数","折込枚数","摘要",null,"扱紙",null,"販売店名　　　　　　　　　　　　　　　　　（支店）","扱　数","折込枚数","摘要"]
[null,null,null,{"$f":"D27+D16+D10","v":40250},{"$f":"E27+E16+E10","v":0},null,null,null,null,null,{"$f":"K10+K15+K16+K19+K20","v":9350},{"$f":"L10+L15+L16+L19+L20","v":0}]
["読静",618000,"沼津　刑部",{"$f":"SUM(D11:D15)","v":11700},{"$f":"SUM(E11:E15)","v":0},null,null,"読静",619000,"沼津　東部大草",{"$f":"SUM(K11:K14)","v":3200},{"$f":"SUM(L11:L14)","v":0}]
[null,618001,"高島店",3050,null,null,null,null,619001,"上香貫",1250]
[null,618002,"白銀店",2000,null,null,null,null,619002,"下香貫",1180]
[null,618003,"宮前店",3450,null,null,null,null,619003,"静   浦",100]
[null,618004,"松長店",1700,null,null,null,null,619004,"大平・徳倉",670]
[null,618005,"大岡店",1500,null,null,null,"読静",620000,"沼津西部　木村",2100]
["朝静",617000,"沼津　星野",{"$f":"SUM(D17:D26)","v":14550},{"$f":"SUM(E17:E26)","v":0},null,null,"朝読静",623000,"愛鷹　鈴木",{"$f":"SUM(K17:K18)","v":2500},{"$f":"SUM(L17:L18)","v":0}]
[null,617001,"金岡・沢田・岡宮",2350,null,null,null,null,623001,"東椎路・西椎路",1700]
[null,617002,"駅北中心",850,null,null,null,null,623002,"東原・鳥谷・柳沢",800]
[null,617003,"大   岡",2600,null,null,null,"合",625000,"三津　GAKU",950]
[null,617004,"今沢・片浜",1550,null,null,null,"合",624000,"戸田　石原",600]
[null,617005,"駅南中心・千本",1100]
[null,617006,"香   貫",2650]
[null,617007,"静   浦",650]
[null,617008,"清水町徳倉・大平",1800]
[null,617009,"原・浮島",900]
[null,617010,"富士市船津・境",100]
["毎静",616000,"沼津　柳原",{"$f":"SUM(D28:D38)","v":14000},{"$f":"SUM(E28:E38)","v":0}]
[null,616001,"駅   北",2800]
[null,616002,"大　 岡",2100]
[null,616005,"駅   南",1500]
[null,616006,"片   浜",1000]
[null,616007,"香   貫",1600]
[null,616008,"静浦･口野",1000]
[null,616009,"大平･徳倉",800]
[null,616010,"愛   鷹",800]
[null,616011,"大塚・原・植田",1400]
[null,616012,"根古屋・平沼・石川",700]
[null,616013,"富士市船津・境",300]

{"sheet":"三島市･御殿場市･裾野市･駿東郡","index":17,"n_rows":31,"n_cols":13,"rows_kept":31,"cut":false,"hidden":false,"merged":[[23,7,29,7],[9,7,22,7],[23,5,23,6],[24,5,24,6],[14,5,14,6],[15,5,15,6],[13,5,13,6],[18,5,18,6],[10,5,10,6],[9,5,9,6],[21,5,21,6],[22,5,22,6],[16,5,16,6],[17,5,17,6],[12,5,12,6],[11,5,11,6],[21,0,24,0],[17,0,20,0],[3,2,3,4],[9,0,16,0],[5,0,6,2],[5,3,6,4],[19,5,19,6],[20,5,20,6],[7,0,8,0],[7,2,8,2],[7,9,8,9],[7,12,8,12],[7,7,8,7],[7,5,8,6],[3,11,3,12],[3,6,3,7],[5,7,6,9],[5,10,6,11],[0,0,0,3],[1,1,1,4],[1,6,1,9],[1,10,2,10],[1,11,2,12],[2,6,2,7],[2,2,2,4]]}
[{"$f":"'配布部数一覧（表題入力）'!A1:B1","v":0}]
["広告主名",{"$f":"'配布部数一覧（表題入力）'!B2:C2","v":""},null,null,null,"サイズ",{"$f":"'配布部数一覧（表題入力）'!E2","v":0},null,null,null,"折込日",{"$f":"'配布部数一覧（表題入力）'!J2","v":"00:00:00"}]
["タイトル",null,{"$f":"'配布部数一覧（表題入力）'!B3","v":0},null,null,"頁　数",{"$f":"E9+L9","v":0},null,null,"　枚"]
["全体摘要",null,{"$f":"'配布部数一覧（表題入力）'!B4","v":0},null,null,"総　数",{"$f":"'配布部数一覧（表題入力）'!K29","v":0},null,null,"　枚","納期",{"$f":"'配布部数一覧（表題入力）'!J4","v":"00:00:00"}]
[]
["三島市：",null,null,{"$f":"D9","v":38200},null,null,null,"御殿場市/裾野市/駿東郡：",null,null,{"$f":"K9","v":24300}]
[]
["扱紙",null,"販売店名　　　　　　　　　　　　　　（支店）","扱　数","折込枚数","摘要",null,"扱紙",null,"販売店名　　　　　　　　　　　　　　　　　（支店）","扱　数","折込枚数","摘要"]
[null,null,null,{"$f":"D10+D18+D22","v":38200},{"$f":"E10+E18+E22","v":0},null,null,null,null,null,{"$f":"K10+K24+K31","v":24300},{"$f":"L10+L24+L31","v":0}]
["合",632000,"三島　MISH",{"$f":"SUM(D11:D17)","v":27400},{"$f":"SUM(E11:E17)","v":0},null,null,"合",627000,"御殿場　勝又",{"$f":"SUM(K11:K23)","v":13700},{"$f":"SUM(L11:L23)","v":0}]
[null,632001,"旧中郷",2200,null,null,null,null,627001,"町･駅前",600]
[null,632002,"旧市内",4500,null,null,null,null,627002,"町･駅裏",1250]
[null,632003,"谷   田",2350,null,null,null,null,627003,"町･駅北",1850]
[null,632004,"駅   北",7400,null,null,null,null,627004,"町･駅南",650]
[null,632005,"長泉町",6100,null,null,null,null,627005,"町･駅西",500]
[null,632006,"清水町",3600,null,null,null,null,627006,"町･東田中",1050]
[null,632007,"函南町",1250,null,null,null,null,627007,"中山・大坂",1450]
["読静",631000,"大場　佐伯",{"$f":"SUM(D19:D21)","v":5800},{"$f":"SUM(E19:E21)","v":0},null,null,null,627008,"かまど・中清水",850]
[null,631001,"大   場",1500,null,null,null,null,627009,"板妻・神場",1600]
[null,631002,"函南町",2700,null,null,null,null,627010,"印野･川柳",500]
[null,631003,"韮山･江間",1600,null,null,null,null,627011,"中畑･滝ヶ原",1450]
["朝静",630000,"大場　望月",{"$f":"SUM(D23:D25)","v":5000},{"$f":"SUM(E23:E25)","v":0},null,null,null,627012,"高根・上小林",1550]
[null,630001,"大   場",1150,null,null,null,null,627013,"須   走",400]
[null,630002,"函南町",3300,null,null,null,"合",628000,"裾野　田代",{"$f":"SUM(K25:K30)","v":8500},{"$f":"SUM(L25:L30)","v":0}]
[null,630003,"韮   山",550,null,null,null,null,628001,"東地区",2300]
[null,null,null,null,null,null,null,null,628002,"西地区",2380]
[null,null,null,null,null,null,null,null,628003,"深良地区",970]
[null,null,null,null,null,null,null,null,628004,"富岡地区",1990]
[null,null,null,null,null,null,null,null,628005,"須山地区",470]
[null,null,null,null,null,null,null,null,628006,"神山地区",390]
[null,null,null,null,null,null,null,"合",626000,"小山　勝又",2100]

{"sheet":"伊豆市･伊豆の国市･下田市(賀茂郡)","index":18,"n_rows":38,"n_cols":13,"rows_kept":38,"cut":false,"hidden":false,"merged":[[34,7,37,7],[24,9,25,9],[22,5,22,6],[23,5,23,6],[24,5,24,6],[24,7,25,7],[21,5,21,6],[24,12,25,12],[22,7,23,9],[22,10,23,11],[0,0,0,3],[1,1,1,4],[1,6,1,9],[1,10,2,10],[1,11,2,12],[2,6,2,7],[3,6,3,7],[3,11,3,12],[7,12,8,12],[5,0,6,2],[16,5,16,6],[7,0,8,0],[20,5,20,6],[5,7,6,9],[5,3,6,4],[5,10,6,11],[2,2,2,4],[3,2,3,4],[7,2,8,2],[7,5,8,6],[7,7,8,7],[7,9,8,9],[15,5,15,6],[16,7,18,7],[13,7,15,7],[9,7,12,7],[15,0,19,0],[17,5,17,6],[18,5,18,6],[19,5,19,6],[9,0,14,0],[9,5,9,6],[10,5,10,6],[11,5,11,6],[12,5,12,6],[13,5,13,6],[14,5,14,6]]}
[{"$f":"'配布部数一覧（表題入力）'!A1:B1","v":0}]
["広告主名",{"$f":"'配布部数一覧（表題入力）'!B2:C2","v":""},null,null,null,"サイズ",{"$f":"'配布部数一覧（表題入力）'!E2","v":0},null,null,null,"折込日",{"$f":"'配布部数一覧（表題入力）'!J2","v":"00:00:00"}]
["タイトル",null,{"$f":"'配布部数一覧（表題入力）'!B3","v":0},null,null,"頁　数",{"$f":"E9+L9+L26","v":0},null,null,"　枚"]
["全体摘要",null,{"$f":"'配布部数一覧（表題入力）'!B4","v":0},null,null,"総　数",{"$f":"'配布部数一覧（表題入力）'!K29","v":0},null,null,"　枚","納期",{"$f":"'配布部数一覧（表題入力）'!J4","v":"00:00:00"}]
[]
["伊豆市/伊豆の国市：",null,null,{"$f":"D9","v":16550},null,null,null,"下田市(賀茂郡)：",null,null,{"$f":"K9","v":13650}]
[]
["扱紙",null,"販売店名　　　　　　　　　　　　　　（支店）","扱　数","折込枚数","摘要",null,"扱紙",null,"販売店名　　　　　　　　　　　　　　　　　（支店）","扱　数","折込枚数","摘要"]
[null,null,null,{"$f":"D10+D16+D21+D22+D23+D24+D25","v":16550},{"$f":"E10+E16+E21+E22+E23+E24+E25","v":0},null,null,null,null,null,{"$f":"K10+K14+K17+K20","v":13650},{"$f":"L10+L14+L17+L20","v":0}]
["毎朝静",639000,"修善寺　佐藤",{"$f":"SUM(D11:D15)","v":6500},{"$f":"SUM(E11:E15)","v":0},null,null,"読静",646000,"下田　土屋",{"$f":"SUM(K11:K13)","v":8800},{"$f":"SUM(L11:L13)","v":0}]
[null,639001,"修善寺",1600,null,null,null,null,646001,"下田市",6500]
[null,639002,"中伊豆",700,null,null,null,null,646003,"南伊豆町",2000]
[null,639003,"湯ヶ島北部",300,null,null,null,null,646004,"河津",300]
[null,639004,"伊豆の国市/大仁",2300,null,null,null,"朝静",647000,"下田　千葉",{"$f":"SUM(K15:K16)","v":3500},{"$f":"SUM(L15:L16)","v":0}]
[null,639005,"伊豆の国市/長岡",1600,null,null,null,null,647001,"下田市",2500]
["朝静",638000,"修善寺　外川",{"$f":"SUM(D17:D20)","v":4600},{"$f":"SUM(E17:E20)","v":0},null,null,null,647002,"南伊豆町",1000]
[null,638001,"修善寺",2000,null,null,null,"産経",648000,"下田　萩原",{"$f":"SUM(K18:K19)","v":900},{"$f":"SUM(L18:L19)","v":0}]
[null,638002,"中伊豆",700,null,null,null,null,648001,"下田市",750]
[null,638003,"天   城",400,null,null,null,null,648002,"南伊豆町",150]
[null,638004,"伊豆の国市/南部",1500,null,null,null,"毎日",649000,"白浜　佐々木",450]
["朝静",633000,"長岡　清水",3700]
["合",637000,"湯ヶ島　安藤",750]
["合",636000,"土肥　矢岸",550,null,null,null,"賀茂郡(西・東海岸)：",null,null,{"$f":"K26","v":10550}]
["合",635000,"八木沢　鈴木",250]
["合",634000,"小下田　山田",200,null,null,null,"扱紙",null,"販売店名　　　　　　　　　　　　　　　　　（支店）","扱　数","折込枚数","摘要"]
[null,null,null,null,null,null,null,null,null,null,{"$f":"SUM(K27:K35)","v":10550},{"$f":"SUM(L27:L35)","v":0}]
[null,null,null,null,null,null,null,"毎読静",653000,"熱川　マツモト",1100]
[null,null,null,null,null,null,null,"朝日",652000,"熱川　千葉",950]
[null,null,null,null,null,null,null,"毎読静",655000,"稲取　マツモト",1000]
[null,null,null,null,null,null,null,"朝静",654000,"稲取　千葉",750]
[null,null,null,null,null,null,null,"合",657000,"上河津　三澤",650]
[null,null,null,null,null,null,null,"合",656000,"下河津　千葉",1550]
[null,null,null,null,null,null,null,"合",644000,"宇久須　矢岸",400]
[null,null,null,null,null,null,null,"合",643000,"安良里　横田",400]
[null,null,null,null,null,null,null,"合",641000,"仁科　GAKU",{"$f":"SUM(K36:K38)","v":3750},{"$f":"SUM(L36:L38)","v":0}]
[null,null,null,null,null,null,null,null,641001,"仁科",1150]
[null,null,null,null,null,null,null,null,641002,"田子",800]
[null,null,null,null,null,null,null,null,641003,"松崎",1800]

{"sheet":"伊東市･熱海市","index":19,"n_rows":30,"n_cols":13,"rows_kept":30,"cut":false,"hidden":false,"merged":[[9,7,13,7],[20,7,22,7],[26,5,26,6],[29,5,29,6],[12,5,12,6],[13,5,13,6],[14,5,14,6],[27,5,27,6],[28,5,28,6],[9,5,9,6],[10,5,10,6],[21,5,21,6],[22,5,22,6],[15,7,18,7],[3,6,3,7],[3,11,3,12],[2,2,2,4],[3,2,3,4],[7,12,8,12],[5,7,6,9],[5,10,6,11],[7,5,8,6],[7,7,8,7],[7,9,8,9],[5,0,6,2],[5,3,6,4],[7,0,8,0],[7,2,8,2],[0,0,0,3],[1,1,1,4],[1,6,1,9],[1,10,2,10],[1,11,2,12],[2,6,2,7],[24,0,28,0],[19,0,23,0],[14,0,18,0],[9,0,13,0],[30,0,46,6],[19,5,19,6],[18,5,18,6],[17,5,17,6],[16,5,16,6],[15,5,15,6],[11,5,11,6],[25,5,25,6],[24,5,24,6],[23,5,23,6],[20,5,20,6]]}
[{"$f":"'配布部数一覧（表題入力）'!A1:B1","v":0}]
["広告主名",{"$f":"'配布部数一覧（表題入力）'!B2:C2","v":""},null,null,null,"サイズ",{"$f":"'配布部数一覧（表題入力）'!E2","v":0},null,null,null,"折込日",{"$f":"'配布部数一覧（表題入力）'!J2","v":"00:00:00"}]
["タイトル",null,{"$f":"'配布部数一覧（表題入力）'!B3","v":0},null,null,"頁　数",{"$f":"E9+L9","v":0},null,null,"　枚"]
["全体摘要",null,{"$f":"'配布部数一覧（表題入力）'!B4","v":0},null,null,"総　数",{"$f":"'配布部数一覧（表題入力）'!K29","v":0},null,null,"　枚","納期",{"$f":"'配布部数一覧（表題入力）'!J4","v":"00:00:00"}]
[]
["伊東市：",null,null,{"$f":"D9","v":22050},null,null,null,"熱海市：",null,null,{"$f":"K9","v":7250}]
[]
["扱紙",null,"販売店名　　　　　　　　　　　　　　（支店）","扱　数","折込枚数","摘要",null,"扱紙",null,"販売店名　　　　　　　　　　　　　　　　　（支店）","扱　数","折込枚数","摘要"]
[null,null,null,{"$f":"D15+D20+D25+D10+D30","v":22050},{"$f":"E15+E20+E25+E10+E30","v":0},null,null,null,null,null,{"$f":"K10+K15+K16","v":7250},{"$f":"L10+L15+L16","v":0}]
["東京中日",661000,"伊東　古谷",{"$f":"SUM(D11:D14)","v":2050},{"$f":"SUM(E11:E14)","v":0},null,null,"合",666000,"網代　中野",{"$f":"SUM(K11:K14)","v":1950},{"$f":"SUM(L11:L14)","v":0}]
[null,661001,"市街地",800,null,null,null,null,666001,"網代・和田木",750]
[null,661003,"川   奈",700,null,null,null,null,666002,"中   野",270]
[null,661004,"八幡野",300,null,null,null,null,666003,"下多賀",380]
[null,661005,"宇佐美",250,null,null,null,null,666004,"上多賀",550]
["読静",659000,"伊東　小杉",{"$f":"SUM(D16:D19)","v":6400},{"$f":"SUM(E16:E19)","v":0},null,null,"産経",665000,"熱海　佐伯",2000]
[null,659001,"市街地",3100,null,null,null,"朝静",664000,"熱海　中野",{"$f":"SUM(K17:K19)","v":3300},{"$f":"SUM(L17:L19)","v":0}]
[null,659002,"八幡野",1000,null,null,null,null,664001,"中央町･上宿町他",1650]
[null,659003,"川奈･吉田",1600,null,null,null,null,664002,"伊豆山",800]
[null,659004,"富戸･大宜",700,null,null,null,null,664003,"熱海駅周",850]
["朝静",660000,"伊東　星野",{"$f":"SUM(D21:D24)","v":7500},{"$f":"SUM(E21:E24)","v":0}]
[null,660001,"旧市内",2550]
[null,660002,"川奈",2900]
[null,660003,"八幡野",1450]
[null,660004,"宇佐美",600]
["毎静",662000,"伊東　柳原",{"$f":"SUM(D26:D29)","v":4900},{"$f":"SUM(E26:E29)","v":0}]
[null,662001,"旧市内",2000]
[null,662002,"川   奈",800]
[null,662003,"八幡野",1600]
[null,662004,"宇佐美",500]
["読静",658000,"宇佐美　小杉",1200]